BEGIN:VCALENDAR
VERSION:2.0
PRODID:-//Kevelaer Marketing - ECPv6.10.2//NONSGML v1.0//EN
CALSCALE:GREGORIAN
METHOD:PUBLISH
X-ORIGINAL-URL:https://kevelaer-marketing.de
X-WR-CALDESC:Veranstaltungen für Kevelaer Marketing
REFRESH-INTERVAL;VALUE=DURATION:PT1H
X-Robots-Tag:noindex
X-PUBLISHED-TTL:PT1H
BEGIN:VTIMEZONE
TZID:Europe/Berlin
BEGIN:DAYLIGHT
TZOFFSETFROM:+0100
TZOFFSETTO:+0200
TZNAME:CEST
DTSTART:20270328T010000
END:DAYLIGHT
BEGIN:STANDARD
TZOFFSETFROM:+0200
TZOFFSETTO:+0100
TZNAME:CET
DTSTART:20271031T010000
END:STANDARD
END:VTIMEZONE
BEGIN:VEVENT
DTSTART;TZID=Europe/Berlin:20270120T200000
DTEND;TZID=Europe/Berlin:20270120T200000
DTSTAMP:20260420T113801
CREATED:20260420T062415Z
LAST-MODIFIED:20260420T062428Z
UID:10004037-1800475200-1800475200@kevelaer-marketing.de
SUMMARY:Theater: Wie aus dem Gesicht geschnitten
DESCRIPTION:Schauspiel / Drama\nProduktion: Landestheater Detmold \nNach einem Brandunfall ist Berits Gesicht bis zur Unkenntlichkeit entstellt. Mehrere Jahre und dutzende Operationen später erhält sie endlich eine Gesichtstransplantation. Auf der Straße begegnet sie einige Monate nach der Transplantation Lars\, der vermeintlich auf Dienstreise unterwegs ist und versucht\, sich die Zeit zu vertreiben – Berit bietet ihm eine Stadtführung an und zwischen den beiden funkt es. Kurz darauf eröffnet ihr Lars\, dass Berit ihn an jemanden erinnert: vor einem halben Jahr starb Lars’ Frau Veronika an den Folgen eines Autounfalls – und spendete sämtliche ihrer Organe\, inklusive ihrer Haut. Lars hat Berit als Empfängerin von Veronikas Spende ausfindig gemacht und aufgesucht\, um sich zu vergewissern\, dass ihr Gesicht „gut aufgehoben“ ist. Daraufhin stattet Berit\, die seit der Transplantation mit ihrer Identität hadert\, Lars einen Besuch ab\, um mehr über das erste Leben ihres neuen Gesichts zu erfahren. Als Berit dann auch noch Veronikas alte Tagebücher liest\, fangen die beiden immer mehr an\, sich zu vermischen … \nEinlass: 19 Uhr\nBeginn: 20 Uhr
URL:https://kevelaer-marketing.de/event/theater-wir-muessen-reden-2/
LOCATION:Konzert- und Bühnenhaus der Wallfahrtsstadt Kevelaer\, Bury-St. Edmunds-Str. 5\, Kevelaer\, 47623
ATTACH;FMTTYPE=image/jpeg:https://kevelaer-marketing.de/wp-content/uploads/2026/04/stocksnap-people-2604159_1920.jpg
ORGANIZER;CN="Wallfahrtsstadt Kevelaer":MAILTO:kultur@kevelaer.de
END:VEVENT
BEGIN:VEVENT
DTSTART;TZID=Europe/Berlin:20270121T193000
DTEND;TZID=Europe/Berlin:20270121T193000
DTSTAMP:20260420T113801
CREATED:20260123T060957Z
LAST-MODIFIED:20260324T085441Z
UID:10003989-1800559800-1800559800@kevelaer-marketing.de
SUMMARY:SCALA Jazz Band & Friends
DESCRIPTION:Auf erstklassige Musikabende dürfen sich alle Jazz-Fans ganz besonders freuen. An ausgewählten Terminen spielt die „SCALA Jazz Band & Friends“ im Konzert- und Bühnenhaus. In gemütlicher Atmosphäre reicht das Musikangebot von Swing über Bebop und Latin bis hin zu modernem Blues/Pop-Jazz. \nReservierungen: \nHausgastronom Marc Moors\nTelefon 0172 5388914\neventcatering@old-butchery.de \nEinlass: 19 Uhr\nBeginn: 19.30 Uhr\nEintritt: frei
URL:https://kevelaer-marketing.de/event/scala-jazz-band-friends-3-4/2027-01-21/
LOCATION:Konzert- und Bühnenhaus der Wallfahrtsstadt Kevelaer\, Bury-St. Edmunds-Str. 5\, Kevelaer\, 47623
ATTACH;FMTTYPE=image/jpeg:https://kevelaer-marketing.de/wp-content/uploads/2024/02/jazz-4402082_960_720-e1727088756827.jpg
ORGANIZER;CN="Wallfahrtsstadt Kevelaer":MAILTO:kultur@kevelaer.de
END:VEVENT
BEGIN:VEVENT
DTSTART;TZID=Europe/Berlin:20270123T190000
DTEND;TZID=Europe/Berlin:20270123T190000
DTSTAMP:20260420T113801
CREATED:20260410T080851Z
LAST-MODIFIED:20260410T080851Z
UID:10004008-1800730800-1800730800@kevelaer-marketing.de
SUMMARY:Ein Abend mit Angelika Milster
DESCRIPTION:Jubiläumstournee 2027 \nDie Ausnahmekünstlerin Angelika Milster lädt zu ihrem Jubiläum zu einem besonderen Konzerterlebnis: In ihrem neuen Programm „Ein Abend mit Angelika Milster“ präsentiert sie eine berührende Retrospektive auf ihr bewegtes Leben und ihre vielschichtige Karriere. Mit unverkennbarer Stimme und packender Bühnenpräsenz nimmt sie das Publikum mit auf eine Reise durch die großen Musicals\, die sie geprägt haben\, und durch persönliche Chansons\, die ihr besonders am Herzen liegen. \n„Ein Abend mit Angelika Milster“ verbindet die großen Musicalklassiker mit fein ausgewählten Chansons und intimen Balladen. Zwischen emotionalen Höhepunkten und leisen Momenten erzählt Milster Anekdoten aus ihrem Leben und ihrer Bühnengeschichte und schafft so eine Mischung aus musikalischer Meisterschaft und persönlicher Nähe\, die sowohl langjährige Fans als auch neue Zuschauer berührt. \nTickets sind hier erhältlich.
URL:https://kevelaer-marketing.de/event/ein-abend-mit-angelika-milster/
LOCATION:Konzert- und Bühnenhaus der Wallfahrtsstadt Kevelaer\, Bury-St. Edmunds-Str. 5\, Kevelaer\, 47623
ATTACH;FMTTYPE=image/jpeg:https://kevelaer-marketing.de/wp-content/uploads/2026/04/Angelika_Milster_Presse1_c_Daniel-Reinhold-ZIMT-STUDIO-Hamburg-e1775808378109.jpeg
END:VEVENT
BEGIN:VEVENT
DTSTART;TZID=Europe/Berlin:20270124T190000
DTEND;TZID=Europe/Berlin:20270124T190000
DTSTAMP:20260420T113801
CREATED:20251211T150024Z
LAST-MODIFIED:20260331T060508Z
UID:10003828-1800817200-1800817200@kevelaer-marketing.de
SUMMARY:Pistors Fußballschule - Tore\, Punkte\, Meisterschaft
DESCRIPTION:Sven Pistor\, die Stimme des Bundesliga-Klassikers „WDR 2 Liga Live“\, öffnet wieder die Tore seiner ganz persönlichen Fußballschule und lädt ein zu einem Abend ohne VAR\, aber mit viel Herz.\nSein neues Bühnenprogramm „Tore\, Punkte\, Meisterschaft“ ist seine Hommage an sechs Jahrzehnte Fußball im Radio: „Die Bundesliga war und ist bis heute einfach die beste Daily-Soap Deutschlands und ihre Geschichte muss erzählt werden.“ Das neue Bühnenprogramm ist eine Fußballreise in Wort und Bild. Sechs Jahrzehnte Fußball und das Radio war immer dabei: packend\, lustig\, kurios. Ein Pflichtprogramm für Menschen\, die wissen\, dass 15.30 mehr ist als nur eine Uhrzeit. Sven Pistor freut sich besonders auf seinen Podcast-Buddy Constantin „Conni“ Kleine\n(WDR 2 Einfach Fußball)\, der die Show begleiten wird. Und natürlich darauf\, dass er an jedem Abend seine persönliche BEST-OF-BUNDESLIGAKONFERENZ abfeiern kann. Die größten Momente vor und hinter den Kulissen der ARD-Bundesligakonferenz: „Hallo hier ist Nürnberg! Wir melden uns vom Abgrund …“. Und das Publikum? In Pistors Fußballschule wird wie gewohnt mitgespielt. Alle sind mit ihrem Handy am Start und können miträtseln.\nEin Abend zum Lachen\, Staunen\, Kopfschütteln und Mitgrölen. Also: Trikot an\, Bier kalt – und rein ins neue Bühnenprogramm „Pistors Fußballschuhe – Tore\, Punkte\, Meisterschaft“! \nEinlass: 18 Uhr\nBeginn 19 Uhr
URL:https://kevelaer-marketing.de/event/pistors-fussballschule-tore-punkte-meisterschaft/
LOCATION:Konzert- und Bühnenhaus der Wallfahrtsstadt Kevelaer\, Bury-St. Edmunds-Str. 5\, Kevelaer\, 47623
ATTACH;FMTTYPE=image/jpeg:https://kevelaer-marketing.de/wp-content/uploads/2025/12/SvenPistor_2025_005c190a-scaled-e1765449882967.jpg
ORGANIZER;CN="Kulturb%C3%BCro Niederrhein":MAILTO:info@kulturbuero-niederrhein.de
END:VEVENT
BEGIN:VEVENT
DTSTART;TZID=Europe/Berlin:20270218T193000
DTEND;TZID=Europe/Berlin:20270218T193000
DTSTAMP:20260420T113801
CREATED:20260123T060957Z
LAST-MODIFIED:20260324T085441Z
UID:10003990-1802979000-1802979000@kevelaer-marketing.de
SUMMARY:SCALA Jazz Band & Friends
DESCRIPTION:Auf erstklassige Musikabende dürfen sich alle Jazz-Fans ganz besonders freuen. An ausgewählten Terminen spielt die „SCALA Jazz Band & Friends“ im Konzert- und Bühnenhaus. In gemütlicher Atmosphäre reicht das Musikangebot von Swing über Bebop und Latin bis hin zu modernem Blues/Pop-Jazz. \nReservierungen: \nHausgastronom Marc Moors\nTelefon 0172 5388914\neventcatering@old-butchery.de \nEinlass: 19 Uhr\nBeginn: 19.30 Uhr\nEintritt: frei
URL:https://kevelaer-marketing.de/event/scala-jazz-band-friends-3-4/2027-02-18/
LOCATION:Konzert- und Bühnenhaus der Wallfahrtsstadt Kevelaer\, Bury-St. Edmunds-Str. 5\, Kevelaer\, 47623
ATTACH;FMTTYPE=image/jpeg:https://kevelaer-marketing.de/wp-content/uploads/2024/02/jazz-4402082_960_720-e1727088756827.jpg
ORGANIZER;CN="Wallfahrtsstadt Kevelaer":MAILTO:kultur@kevelaer.de
END:VEVENT
BEGIN:VEVENT
DTSTART;TZID=Europe/Berlin:20270311T193000
DTEND;TZID=Europe/Berlin:20270311T193000
DTSTAMP:20260420T113801
CREATED:20260123T060957Z
LAST-MODIFIED:20260324T085441Z
UID:10003991-1804793400-1804793400@kevelaer-marketing.de
SUMMARY:SCALA Jazz Band & Friends
DESCRIPTION:Auf erstklassige Musikabende dürfen sich alle Jazz-Fans ganz besonders freuen. An ausgewählten Terminen spielt die „SCALA Jazz Band & Friends“ im Konzert- und Bühnenhaus. In gemütlicher Atmosphäre reicht das Musikangebot von Swing über Bebop und Latin bis hin zu modernem Blues/Pop-Jazz. \nReservierungen: \nHausgastronom Marc Moors\nTelefon 0172 5388914\neventcatering@old-butchery.de \nEinlass: 19 Uhr\nBeginn: 19.30 Uhr\nEintritt: frei
URL:https://kevelaer-marketing.de/event/scala-jazz-band-friends-3-4/2027-03-11/
LOCATION:Konzert- und Bühnenhaus der Wallfahrtsstadt Kevelaer\, Bury-St. Edmunds-Str. 5\, Kevelaer\, 47623
ATTACH;FMTTYPE=image/jpeg:https://kevelaer-marketing.de/wp-content/uploads/2024/02/jazz-4402082_960_720-e1727088756827.jpg
ORGANIZER;CN="Wallfahrtsstadt Kevelaer":MAILTO:kultur@kevelaer.de
END:VEVENT
BEGIN:VEVENT
DTSTART;TZID=Europe/Berlin:20270312T193000
DTEND;TZID=Europe/Berlin:20270312T193000
DTSTAMP:20260420T113801
CREATED:20240808T100906Z
LAST-MODIFIED:20250410T054948Z
UID:10000494-1804879800-1804879800@kevelaer-marketing.de
SUMMARY:Musical Starlights - Best of Musicals
DESCRIPTION:Musical Starlights – Best of Musicals dich auf eine einzigartige Reise durch die Welt der Musicals ein. \nEine Show voller Eindrücke – Genieße während der 2 ½-stündigen Show eine erlesene Mischung aus gefühlvollen Balladen\, rockigen Klassikern und mitreißenden Songs aus den bekanntesten Musicals. \nFür die ganze Familie – Ein unvergesslicher Abend und ein einzigartiges Erlebnis für die ganze Familie!\nStimmgewaltige Starsolisten in aufwendigen Kostümen präsentieren die Höhepunkte aus den schönsten Musicals. \nDie schönstes Hits der bekanntesten Musicals – Tanz der Vampire\, Elisabeth\, Die Eiskönigin\, We Will Rock You\, Cabaret\, Rebecca\, Die Schöne und das Biest\,…u.v.m.
URL:https://kevelaer-marketing.de/event/musical-starlights-best-of-musicals/2027-03-12/
LOCATION:Konzert- und Bühnenhaus der Wallfahrtsstadt Kevelaer\, Bury-St. Edmunds-Str. 5\, Kevelaer\, 47623
ATTACH;FMTTYPE=image/jpeg:https://kevelaer-marketing.de/wp-content/uploads/2022/07/best-of-musicals-scaled-e1668430737816.jpg
ORGANIZER;CN="DS Entertainment":MAILTO:info@dsentertainment.de
END:VEVENT
BEGIN:VEVENT
DTSTART;TZID=Europe/Berlin:20270315T200000
DTEND;TZID=Europe/Berlin:20270315T200000
DTSTAMP:20260420T113801
CREATED:20260420T062631Z
LAST-MODIFIED:20260420T062631Z
UID:10004038-1805140800-1805140800@kevelaer-marketing.de
SUMMARY:Theater: Spiel gewinnt
DESCRIPTION:Komödie von Karsten Laske\nProduktion: Komödie am Kurfürstendamm \nIT-Spezialist Felix haust in seiner smarten Wohnung\, geschützt gegen Viren und sonstige Zumutungen des Lebens. Denn die Welt vor seiner Tür erschreckt ihn. Als Miriam in sein Refugium einbricht\, ist das schlimmer als jeder Hackerangriff. Eigentlich soll sie die Rauchmelder kontrollieren. Aber unter Kontrolle hat Miriam überhaupt nichts\, schon gar nicht ihr Leben. In immer anderen Jobs taucht sie bei ihm auf und bringt seine lieb gewonnene Routine gehörig ins Schleudern. Das Chaos ist perfekt\, als Felix Therapeutin auf den Plan tritt. Mit der hat er nämlich eine ganz besondere Beziehung. Ihm bleibt nur eine letzte Chance auf sein Seelenheil: die Flucht nach vorn! Eine hochaktuelle und mitreißende Komödie über Einsamkeit und wie man sie mit Mut\, Leidenschaft und Fantasie wieder loswerden kann. \nEinlass: 19 Uhr\nBeginn: 20 Uhr
URL:https://kevelaer-marketing.de/event/theater-spiel-gewinnt/
LOCATION:Konzert- und Bühnenhaus der Wallfahrtsstadt Kevelaer\, Bury-St. Edmunds-Str. 5\, Kevelaer\, 47623
ATTACH;FMTTYPE=image/jpeg:https://kevelaer-marketing.de/wp-content/uploads/2026/04/14__FranziskaStrauss__Spiel-gewinnt__PRINT-scaled.jpg
ORGANIZER;CN="Wallfahrtsstadt Kevelaer":MAILTO:kultur@kevelaer.de
END:VEVENT
BEGIN:VEVENT
DTSTART;TZID=Europe/Berlin:20270413T200000
DTEND;TZID=Europe/Berlin:20270413T200000
DTSTAMP:20260420T113801
CREATED:20260420T062800Z
LAST-MODIFIED:20260420T062800Z
UID:10004039-1807646400-1807646400@kevelaer-marketing.de
SUMMARY:Theater: Terror
DESCRIPTION:Gerichtsdrama von Ferdinand v. Schirach\nProduktion: Berliner Kriminal Theater \nUm zu verhindern\, dass ein Terrorist ein von ihm entführtes Passagierflugzeug in die vollbesetzte Allianz Arena stürzen lässt\, entscheidet sich der Bundeswehr-Pilot Lars Koch befehlswidrig\, die Passagiermaschine abzuschießen – 164 Menschen wird das Leben genommen\, um 70.000 zu retten. Die große Strafkammer des Berliner Schwurgerichts verhandelt darüber\, ob Lars Koch für den Mord schuldig gesprochen werden kann. Der Verteidiger beruft sich auf eine Abwägungsentscheidung\, immerhin habe der Pilot mit seiner Handlung viele tausend Menschen das Leben gerettet. Die Anklage wirft dem Piloten Befehlsmissachtung vor\, aber vor allem habe er die Menschenwürde missachtet\, da er durch seine Gegenrechnung von Menschenleben die Passagiere instrumentalisiert habe\, die aber nichtsdestotrotz genauso ein Recht auf Leben haben\, wie alle anderen. Das Urteil fällt das Publikum mit einer Abstimmung über die Schuld oder Unschuld des Angeklagten und damit über den Richterspruch. \nEinlass: 19 Uhr\nBeginn: 20 Uhr
URL:https://kevelaer-marketing.de/event/theater-terror/
LOCATION:Konzert- und Bühnenhaus der Wallfahrtsstadt Kevelaer\, Bury-St. Edmunds-Str. 5\, Kevelaer\, 47623
ATTACH;FMTTYPE=image/jpeg:https://kevelaer-marketing.de/wp-content/uploads/2026/04/07_Terror_Tilman-Guenther_Hendrik-Flacke_Conrad-Waligura©Herbert-Schulze.jpg
ORGANIZER;CN="Wallfahrtsstadt Kevelaer":MAILTO:kultur@kevelaer.de
END:VEVENT
BEGIN:VEVENT
DTSTART;TZID=Europe/Berlin:20270415T193000
DTEND;TZID=Europe/Berlin:20270415T193000
DTSTAMP:20260420T113801
CREATED:20260123T060957Z
LAST-MODIFIED:20260324T085441Z
UID:10003992-1807817400-1807817400@kevelaer-marketing.de
SUMMARY:SCALA Jazz Band & Friends
DESCRIPTION:Auf erstklassige Musikabende dürfen sich alle Jazz-Fans ganz besonders freuen. An ausgewählten Terminen spielt die „SCALA Jazz Band & Friends“ im Konzert- und Bühnenhaus. In gemütlicher Atmosphäre reicht das Musikangebot von Swing über Bebop und Latin bis hin zu modernem Blues/Pop-Jazz. \nReservierungen: \nHausgastronom Marc Moors\nTelefon 0172 5388914\neventcatering@old-butchery.de \nEinlass: 19 Uhr\nBeginn: 19.30 Uhr\nEintritt: frei
URL:https://kevelaer-marketing.de/event/scala-jazz-band-friends-3-4/2027-04-15/
LOCATION:Konzert- und Bühnenhaus der Wallfahrtsstadt Kevelaer\, Bury-St. Edmunds-Str. 5\, Kevelaer\, 47623
ATTACH;FMTTYPE=image/jpeg:https://kevelaer-marketing.de/wp-content/uploads/2024/02/jazz-4402082_960_720-e1727088756827.jpg
ORGANIZER;CN="Wallfahrtsstadt Kevelaer":MAILTO:kultur@kevelaer.de
END:VEVENT
BEGIN:VEVENT
DTSTART;VALUE=DATE:20271127
DTEND;VALUE=DATE:20271128
DTSTAMP:20260420T113801
CREATED:20260326T073354Z
LAST-MODIFIED:20260326T073354Z
UID:10004000-1827304438-1827304438@kevelaer-marketing.de
SUMMARY:Wetten schmückt den Tannenbaum
DESCRIPTION:Kinder aus Wetten und Umgebung schmücken den Tannenbaum auf dem Markt vor der Kirche. Es gibt Musik\, Leckeres vom Grill und kalte und warme Getränke. Der Nikolaus kommt und es wird Kutschfahrten geben.
URL:https://kevelaer-marketing.de/event/wetten-schmueckt-den-tannenbaum-2/2027-11-27/
LOCATION:Friedensplatz Wetten\, Kevelaer
ATTACH;FMTTYPE=image/jpeg:https://kevelaer-marketing.de/wp-content/uploads/2024/10/2.5.3-Weihnachtsbaum-Wetten-Claudia-Straaten-e1730202700759.jpg
END:VEVENT
BEGIN:VEVENT
DTSTART;TZID=Europe/Berlin:20271205T180000
DTEND;TZID=Europe/Berlin:20271205T203000
DTSTAMP:20260420T113801
CREATED:20260416T063419Z
LAST-MODIFIED:20260416T063715Z
UID:10004034-1828029600-1828038600@kevelaer-marketing.de
SUMMARY:Gina`s Christmas Comedy Show 2026
DESCRIPTION:Mit genau dieser Show wurden sowohl Las Vegas als auch der einzigartige Broadway in New York von Gina de L’Amore erobert. Zudem wurde sie als Partnerevent der deutschen Botschaft in New York empfohlen und begeisterte dort das amerikanische sowie internationale Publikum mit Standing Ovations. \nGeboten werden herzhafte Stand-up-Comedy\, phantastischer Live-Gesang und fantasievolle Kostüme – erstklassiges Entertainment auf höchstem Niveau. Tränenlachen\, Zwerchfellangriffe und eine bezaubernde Weihnachtsstimmung sind garantiert. Dabei bleibt Gina de L’Amore stets stilvoll\, denn auch oberhalb der Gürtellinie bietet sich ausreichend Raum für humorvolle Sticheleien. \nAls Kandidatin von „The Voice of Germany“ ist Gina de L’Amore auf den TUI Cruises Mein Schiff- und AIDA-Kreuzfahrtschiffen\, auf Schiffen der Phoenix-Flotte sowie auf dem Traumschiff MS Deutschland zu erleben. Jede Aufführung ist einzigartig\, und das Publikum wird aktiv in das Geschehen einbezogen. \nGina de L’Amore\, bekannt aus Presse und Fernsehen sowie Gewinnerin des Hamburger Schlagermove Festivals 2019\, tritt in renommierten Theatern Deutschlands auf und ist weltweit mit ihren glamourösen Soloshows unterwegs. Für Gänsehaut sorgt die Kraft ihrer Stimme\, während ihr hinreißender Humor für ausgelassenes Lachen und „Bauchschmerzen“ sorgt. \nDiese außergewöhnliche Künstlerin begeistert durch ihre Einzigartigkeit. Aus Fremden werden Freunde – und ein unvergesslicher Abend wird garantiert. Es darf gelacht\, gestaunt und mitgefiebert werden – Hauptsache\, der Spaß steht im Mittelpunkt! \nEintritt: 25\,90 Euro
URL:https://kevelaer-marketing.de/event/ginas-christmas-comedy-show-2026-2/
LOCATION:Begegnungsstätte Kevelaer
ATTACH;FMTTYPE=image/jpeg:https://kevelaer-marketing.de/wp-content/uploads/2026/04/blanko-2026-christmas-show-e1776235055897.jpg
ORGANIZER;CN="SL-Artistcompany":MAILTO:info@sl-artistcompany.de
END:VEVENT
END:VCALENDAR