BEGIN:VCALENDAR
VERSION:2.0
PRODID:-//Kevelaer Marketing - ECPv6.10.2//NONSGML v1.0//EN
CALSCALE:GREGORIAN
METHOD:PUBLISH
X-ORIGINAL-URL:https://kevelaer-marketing.de
X-WR-CALDESC:Veranstaltungen für Kevelaer Marketing
REFRESH-INTERVAL;VALUE=DURATION:PT1H
X-Robots-Tag:noindex
X-PUBLISHED-TTL:PT1H
BEGIN:VTIMEZONE
TZID:Europe/Berlin
BEGIN:DAYLIGHT
TZOFFSETFROM:+0100
TZOFFSETTO:+0200
TZNAME:CEST
DTSTART:20250330T010000
END:DAYLIGHT
BEGIN:STANDARD
TZOFFSETFROM:+0200
TZOFFSETTO:+0100
TZNAME:CET
DTSTART:20251026T010000
END:STANDARD
BEGIN:DAYLIGHT
TZOFFSETFROM:+0100
TZOFFSETTO:+0200
TZNAME:CEST
DTSTART:20260329T010000
END:DAYLIGHT
BEGIN:STANDARD
TZOFFSETFROM:+0200
TZOFFSETTO:+0100
TZNAME:CET
DTSTART:20261025T010000
END:STANDARD
END:VTIMEZONE
BEGIN:VEVENT
DTSTART;TZID=Europe/Berlin:20260308T120000
DTEND;TZID=Europe/Berlin:20260308T170000
DTSTAMP:20260420T150152
CREATED:20260210T083607Z
LAST-MODIFIED:20260220T081016Z
UID:10003919-1772971200-1772989200@kevelaer-marketing.de
SUMMARY:Coaching Café
DESCRIPTION:Zum internationalen Frauentag \nDas Coaching Café ist ein neuer Begegnungsort für alle\, die neugierig auf Coaching\, psychologische Impulse und Persönlichkeitsentwicklung sind – ganz ohne Hürde\, ganz ohne Vorwissen. \nEin engagiertes Team aus Coaches aus Kevelaer und Umgebung hat das Coaching Café mit viel Herzblut aufgebaut – um Coaching sichtbar\, nahbar und erlebbar zu machen. Offen für alle\, kostenlos\, wertschätzend und auf Augenhöhe. \n 
URL:https://kevelaer-marketing.de/event/__trashed-5/
LOCATION:Lebensart Kevelaer\, Twistedener Straße 67\, Kevelaer
ATTACH;FMTTYPE=image/jpeg:https://kevelaer-marketing.de/wp-content/uploads/2026/02/1000303501-e1771406031671.jpg
END:VEVENT
BEGIN:VEVENT
DTSTART;TZID=Europe/Berlin:20251130T120000
DTEND;TZID=Europe/Berlin:20251130T170000
DTSTAMP:20260420T150152
CREATED:20250715T141546Z
LAST-MODIFIED:20250805T135700Z
UID:10003708-1764504000-1764522000@kevelaer-marketing.de
SUMMARY:Coaching Café - Menschen. Methoden. Möglichkeiten.
DESCRIPTION:Das Coaching Café ist ein neuer Begegnungsort für alle\, die neugierig auf Coaching\, psychologische Impulse und Persönlichkeitsentwicklung sind – ganz ohne Hürde\, ganz ohne Vorwissen. \nIn den Räumen der Lebensart Kevelaer erwartet dich dreimal im Jahr ein inspirierender Nachmittag mit: \n\nMini-Workshops\nKreativen Mitmach-Formaten\n1:1 Schnupper-Coachings\nThemeninseln\, Körperarbeit\, Fantasiereisen u. v. m.\n\nDie Veranstaltung lädt dich ein\, in geschützter Atmosphäre neue Perspektiven zu entdecken\, dich mit dir selbst zu verbinden und neue Impulse mitzunehmen. \nEin engagiertes Team aus Coaches aus Kevelaer und Umgebung hat das Coaching Café mit viel Herzblut aufgebaut – um Coaching sichtbar\, nahbar und erlebbar zu machen. Offen für alle\, kostenlos\, wertschätzend und auf Augenhöhe. \nKomm vorbei\, gönn dir eine echte Auszeit und erlebe\, wie Coaching dich stärken kann. \nOhne Anmeldung. Ohne Druck. Einfach kommen und da sein.
URL:https://kevelaer-marketing.de/event/coaching-cafe-menschen-methoden-moeglichkeiten/2025-11-30/
LOCATION:Lebensart Kevelaer\, Twistedener Straße 67\, Kevelaer
ATTACH;FMTTYPE=image/jpeg:https://kevelaer-marketing.de/wp-content/uploads/2025/07/Gruppenfoto-Coaching-Cafe-scaled-e1754402204737.jpg
END:VEVENT
BEGIN:VEVENT
DTSTART;TZID=Europe/Berlin:20250914T120000
DTEND;TZID=Europe/Berlin:20250914T170000
DTSTAMP:20260420T150152
CREATED:20250715T141546Z
LAST-MODIFIED:20250805T135700Z
UID:10003707-1757851200-1757869200@kevelaer-marketing.de
SUMMARY:Coaching Café - Menschen. Methoden. Möglichkeiten.
DESCRIPTION:Das Coaching Café ist ein neuer Begegnungsort für alle\, die neugierig auf Coaching\, psychologische Impulse und Persönlichkeitsentwicklung sind – ganz ohne Hürde\, ganz ohne Vorwissen. \nIn den Räumen der Lebensart Kevelaer erwartet dich dreimal im Jahr ein inspirierender Nachmittag mit: \n\nMini-Workshops\nKreativen Mitmach-Formaten\n1:1 Schnupper-Coachings\nThemeninseln\, Körperarbeit\, Fantasiereisen u. v. m.\n\nDie Veranstaltung lädt dich ein\, in geschützter Atmosphäre neue Perspektiven zu entdecken\, dich mit dir selbst zu verbinden und neue Impulse mitzunehmen. \nEin engagiertes Team aus Coaches aus Kevelaer und Umgebung hat das Coaching Café mit viel Herzblut aufgebaut – um Coaching sichtbar\, nahbar und erlebbar zu machen. Offen für alle\, kostenlos\, wertschätzend und auf Augenhöhe. \nKomm vorbei\, gönn dir eine echte Auszeit und erlebe\, wie Coaching dich stärken kann. \nOhne Anmeldung. Ohne Druck. Einfach kommen und da sein.
URL:https://kevelaer-marketing.de/event/coaching-cafe-menschen-methoden-moeglichkeiten/2025-09-14/
LOCATION:Lebensart Kevelaer\, Twistedener Straße 67\, Kevelaer
ATTACH;FMTTYPE=image/jpeg:https://kevelaer-marketing.de/wp-content/uploads/2025/07/Gruppenfoto-Coaching-Cafe-scaled-e1754402204737.jpg
END:VEVENT
END:VCALENDAR