BEGIN:VCALENDAR
VERSION:2.0
PRODID:-//Kevelaer Marketing - ECPv6.10.2//NONSGML v1.0//EN
CALSCALE:GREGORIAN
METHOD:PUBLISH
X-ORIGINAL-URL:https://kevelaer-marketing.de
X-WR-CALDESC:Veranstaltungen für Kevelaer Marketing
REFRESH-INTERVAL;VALUE=DURATION:PT1H
X-Robots-Tag:noindex
X-PUBLISHED-TTL:PT1H
BEGIN:VTIMEZONE
TZID:Europe/Berlin
BEGIN:DAYLIGHT
TZOFFSETFROM:+0100
TZOFFSETTO:+0200
TZNAME:CEST
DTSTART:20240331T010000
END:DAYLIGHT
BEGIN:STANDARD
TZOFFSETFROM:+0200
TZOFFSETTO:+0100
TZNAME:CET
DTSTART:20241027T010000
END:STANDARD
BEGIN:DAYLIGHT
TZOFFSETFROM:+0100
TZOFFSETTO:+0200
TZNAME:CEST
DTSTART:20250330T010000
END:DAYLIGHT
BEGIN:STANDARD
TZOFFSETFROM:+0200
TZOFFSETTO:+0100
TZNAME:CET
DTSTART:20251026T010000
END:STANDARD
END:VTIMEZONE
BEGIN:VEVENT
DTSTART;TZID=Europe/Berlin:20250303T160000
DTEND;TZID=Europe/Berlin:20250303T220000
DTSTAMP:20260421T034202
CREATED:20250130T092223Z
LAST-MODIFIED:20250130T092223Z
UID:10000575-1741017600-1741039200@kevelaer-marketing.de
SUMMARY:Jugenddisco am Rosenmontag
DESCRIPTION:Am Rosenmontag steigt im Konzert- und Bühnenhaus wieder die beliebte Jugenddisco. Jugendliche können sich auf einen bunten Abend voller Karnevalsmusik freuen. Die Türen sind von 16 bis 22 Uhr geöffnet. \nVorverkaufstickets sind für 3\,50 Euro in der Tourist Information im Rathaus oder im Informationsgebäude am Solegarten St. Jakob erhältlich. An der Tageskasse kosten die Tickets 5 Euro. \nEinlass ab 14 Jahren \nWichtig: Der Einlass ist nur mit einem gültigen Ausweis möglich.
URL:https://kevelaer-marketing.de/event/jugenddisco-am-rosenmontag/
LOCATION:Konzert- und Bühnenhaus der Wallfahrtsstadt Kevelaer\, Bury-St. Edmunds-Str. 5\, Kevelaer\, 47623
ATTACH;FMTTYPE=image/png:https://kevelaer-marketing.de/wp-content/uploads/2023/01/Jugend-Disco-2023-01-pixabay-e1673875409937.png
END:VEVENT
BEGIN:VEVENT
DTSTART;TZID=Europe/Berlin:20241107T170000
DTEND;TZID=Europe/Berlin:20241107T200000
DTSTAMP:20260421T034202
CREATED:20241025T072418Z
LAST-MODIFIED:20241028T084036Z
UID:10000301-1730998800-1731009600@kevelaer-marketing.de
SUMMARY:Kinoabend im Konzert- und Bühnenhaus
DESCRIPTION:Das Jugendamt der Wallfahrtsstadt Kevelaer sagt Danke! \nVon den insgesamt 3.021 angeschriebenen jungen Menschen\, haben 1.061 Personen an der Kinder- und Jugendbefragung 2023 / 2024 teilgenommen! Dank dieser super Teilnahmequote von über 35 % möchte das Jugendamt der Wallfahrtsstadt Kevelaer sich gemeinsam mit dem Forschungsinstitut mit einem bunten Kinoabend  revanchieren. Neben dem Filmabend können sich die Besucher auf kostenfreie Getränke und Snacks freuen. \nDie Einladung gilt für alle Kinder- und Jugendliche von 10 bis 21 Jahren aus Kevelaer. Diejenigen\, die nicht an der Umfrage teilgenommen haben\, sind dennoch herzlich eingeladen. Die Anzahl der Tickets ist begrenzt.
URL:https://kevelaer-marketing.de/event/kinoabend-im-konzert-und-buehnenhaus/
LOCATION:Konzert- und Bühnenhaus der Wallfahrtsstadt Kevelaer\, Bury-St. Edmunds-Str. 5\, Kevelaer\, 47623
ATTACH;FMTTYPE=image/jpeg:https://kevelaer-marketing.de/wp-content/uploads/2024/10/116.2024-PI-KoBue-Flimmern-in-den-Herbstferien-scaled.jpg
END:VEVENT
BEGIN:VEVENT
DTSTART;TZID=Europe/Berlin:20240212T160000
DTEND;TZID=Europe/Berlin:20240212T220000
DTSTAMP:20260421T034202
CREATED:20230116T135717Z
LAST-MODIFIED:20240124T095218Z
UID:10000080-1707753600-1707775200@kevelaer-marketing.de
SUMMARY:Jugend-Disco an Rosenmontag
DESCRIPTION:Am Rosenmontag steigt im Konzert- und Bühnenhaus wieder die beliebte Jugend-Disco. Die Türen sind ab 16 Uhr geöffnet. Alle Jugendlichen ab 14 Jahren können bis zum Ende der Veranstaltung um 22 Uhr mitfeiern. \nTickets sind zu einem Preis von 3\,50 Euro in der Tourist Information und im Informationsgebäude am Solegarten St. Jakob erhältlich.
URL:https://kevelaer-marketing.de/event/jugend-disco-an-rosenmontag/
LOCATION:Konzert- und Bühnenhaus der Wallfahrtsstadt Kevelaer\, Bury-St. Edmunds-Str. 5\, Kevelaer\, 47623
ATTACH;FMTTYPE=image/png:https://kevelaer-marketing.de/wp-content/uploads/2023/01/Jugend-Disco-2023-01-pixabay-e1673875409937.png
END:VEVENT
END:VCALENDAR