BEGIN:VCALENDAR
VERSION:2.0
PRODID:-//Kevelaer Marketing - ECPv6.10.2//NONSGML v1.0//EN
CALSCALE:GREGORIAN
METHOD:PUBLISH
X-ORIGINAL-URL:https://kevelaer-marketing.de
X-WR-CALDESC:Veranstaltungen für Kevelaer Marketing
REFRESH-INTERVAL;VALUE=DURATION:PT1H
X-Robots-Tag:noindex
X-PUBLISHED-TTL:PT1H
BEGIN:VTIMEZONE
TZID:Europe/Berlin
BEGIN:DAYLIGHT
TZOFFSETFROM:+0100
TZOFFSETTO:+0200
TZNAME:CEST
DTSTART:20240331T010000
END:DAYLIGHT
BEGIN:STANDARD
TZOFFSETFROM:+0200
TZOFFSETTO:+0100
TZNAME:CET
DTSTART:20241027T010000
END:STANDARD
END:VTIMEZONE
BEGIN:VEVENT
DTSTART;TZID=Europe/Berlin:20241203T193000
DTEND;TZID=Europe/Berlin:20241203T193000
DTSTAMP:20260419T145033
CREATED:20240429T152326Z
LAST-MODIFIED:20240429T152326Z
UID:10000461-1733254200-1733254200@kevelaer-marketing.de
SUMMARY:Marc Marshall - das Weihnachtskonzert
DESCRIPTION:Marc Marshall’s Weihnachtskonzerte sind für zahlreiche Musikliebhaber ein fester\, jährlicher Termin und eine liebgewonnene Tradition in der Weihnachtszeit. Das Publikum feiert sie bundesweit mit ausverkauften Konzertsälen und Kirchen. Begeisterte Pressestimmen ernannten den vielseitigen Bariton zum ?Meister der leisen Töne“ und ?Botschafter für Frieden und Freundschaft“. Wo seine Stimme erklingt öffnen sich die Herzen der Menschen. Diese Stimme berührt\, sie erzählt Geschichten. Verbindlich\, wertschätzend\, emotional\, humorvoll\, zärtlich und kraftvoll.\nZum ersten Advent beginnt die jährlich langersehnte Weihnachtstournee von Marc Marshall. Der Sänger gastiert mit seinem neuen Weihnachtsprogramm\, bei dem die Wucht der Emotionalität und die Leidenschaft des Kreativen in jeder Minute spürbar ist\, bis zum Jahresausklang bundesweit in 20 Städten. „Lasst uns besonders zur Weihnachtszeit in Harmonie und Freundschaft miteinander sein“\, lädt Marc Marshall ein. „Es ist mir eine Herzenssache\, mit Ihnen und Euch\, wie eine große Familie\, die Tradition und den Geist der Weihnacht mit Musik zu beleben.“\nMit seinem einzigartigen Konzertprogramm verbindet Marc Marshall traditionelle Weihnachtslieder- und texte\, die Familie und Freundschaft ehren. Verzaubernd\, wohltuend\, fröhlich; bis die letzte Melodie verklingt. Dabei greift der Schöngeist im Zusammenspiel mit seinem Publikum sensitiv den Rhythmus und das Gefühl des Augenblicks auf. Seine farbenreiche Baritonstimme entfaltet bei diesem vielseitigen Repertoire ihre ganze Schönheit. Begleitet wird Marc Marshall am Klavier von René Krömer\, der vielen noch als Pianist von Udo Jürgens in Erinnerung ist. \nTickets sind erhältlich unter: www.eventim.de
URL:https://kevelaer-marketing.de/event/marc-marshall-das-weihnachtskonzert/
LOCATION:Konzert- und Bühnenhaus der Wallfahrtsstadt Kevelaer\, Bury-St. Edmunds-Str. 5\, Kevelaer\, 47623
ATTACH;FMTTYPE=image/jpeg:https://kevelaer-marketing.de/wp-content/uploads/2024/04/2024-12-Marc-Marshall-e1714382939251.jpeg
END:VEVENT
END:VCALENDAR