BEGIN:VCALENDAR
VERSION:2.0
PRODID:-//Kevelaer Marketing - ECPv6.10.2//NONSGML v1.0//EN
CALSCALE:GREGORIAN
METHOD:PUBLISH
X-ORIGINAL-URL:https://kevelaer-marketing.de
X-WR-CALDESC:Veranstaltungen für Kevelaer Marketing
REFRESH-INTERVAL;VALUE=DURATION:PT1H
X-Robots-Tag:noindex
X-PUBLISHED-TTL:PT1H
BEGIN:VTIMEZONE
TZID:Europe/Berlin
BEGIN:DAYLIGHT
TZOFFSETFROM:+0100
TZOFFSETTO:+0200
TZNAME:CEST
DTSTART:20250330T010000
END:DAYLIGHT
BEGIN:STANDARD
TZOFFSETFROM:+0200
TZOFFSETTO:+0100
TZNAME:CET
DTSTART:20251026T010000
END:STANDARD
BEGIN:DAYLIGHT
TZOFFSETFROM:+0100
TZOFFSETTO:+0200
TZNAME:CEST
DTSTART:20260329T010000
END:DAYLIGHT
BEGIN:STANDARD
TZOFFSETFROM:+0200
TZOFFSETTO:+0100
TZNAME:CET
DTSTART:20261025T010000
END:STANDARD
END:VTIMEZONE
BEGIN:VEVENT
DTSTART;TZID=Europe/Berlin:20260214T190000
DTEND;TZID=Europe/Berlin:20260214T190000
DTSTAMP:20260425T052900
CREATED:20260122T114758Z
LAST-MODIFIED:20260122T114758Z
UID:10003886-1771095600-1771095600@kevelaer-marketing.de
SUMMARY:Kölscher Abend
DESCRIPTION:Am 14. Februar 2026 wird’s wieder richtig kölsch\, jeck und joot! \nDas Kölner Lebensgefühl kommt nach Kevelaer – mit allem\, was dazu gehört: \n– 10-Liter-Fässer Früh Kölsch – frisch gezapft & eiskalt!\n– Kölsche Brotzeit – deftig\, lecker und genau richtig zum Anstoßen \nVorbeikommen\, schunkeln\, mitsingen und einen unvergesslichen Abend erleben – Kölle meets Kevelaer! \nEintritt: 5 Euro + Servicegebühren \nEinlass ab 19 Uhr
URL:https://kevelaer-marketing.de/event/koelscher-abend/
LOCATION:Konzert- und Bühnenhaus der Wallfahrtsstadt Kevelaer\, Bury-St. Edmunds-Str. 5\, Kevelaer\, 47623
ATTACH;FMTTYPE=image/jpeg:https://kevelaer-marketing.de/wp-content/uploads/2023/02/Konfetti-Karneval-2023-02-pixabay-e1675670870569.jpg
END:VEVENT
BEGIN:VEVENT
DTSTART;TZID=Europe/Berlin:20260212T160000
DTEND;TZID=Europe/Berlin:20260212T180000
DTSTAMP:20260425T052900
CREATED:20260122T113558Z
LAST-MODIFIED:20260123T102614Z
UID:10003885-1770912000-1770919200@kevelaer-marketing.de
SUMMARY:Altweiber-Party
DESCRIPTION:Die fünfte Jahreszeit feiern\, wo Karneval am schönsten ist – im Konzert- und Bühnenhaus Kevelaer! Am 12. Februar 2026 erwartet die Karnevalisten ein ausgelassener Altweiber-Donnerstag voller Musik\, Party und Stimmung pur! \nHauptact des Abends: MALLE ANJA – bekannt für ihre mitreißenden Mallorca-Hits und absolute Partyeskalation! \nDJ-Line-up: \n– LEWA – heizt ab 16 Uhr direkt zu Beginn ein\n– SeroDopa – bringt elektronische Vibes auf die Bühne\n– Marv U – mixt durch Charts\, Karneval und Partyklassiker \nAuf fette Beats\, kalte Drinks und eine Stimmung freuen\, die den Saal beben lässt! \nAbendkasse: 18 Euro\, Zutritt ab 18 Jahren
URL:https://kevelaer-marketing.de/event/altweiber/
LOCATION:Konzert- und Bühnenhaus der Wallfahrtsstadt Kevelaer\, Bury-St. Edmunds-Str. 5\, Kevelaer\, 47623
ATTACH;FMTTYPE=image/jpeg:https://kevelaer-marketing.de/wp-content/uploads/2024/02/KevelaerBEATZ2024_HiRes-31-scaled-e1712299744125.jpg
END:VEVENT
BEGIN:VEVENT
DTSTART;TZID=Europe/Berlin:20250227T160000
DTEND;TZID=Europe/Berlin:20250227T160000
DTSTAMP:20260425T052900
CREATED:20240405T074004Z
LAST-MODIFIED:20250211T133239Z
UID:10000198-1740672000-1740672000@kevelaer-marketing.de
SUMMARY:KevelaerBEATZ by Old Butchery
DESCRIPTION:Helau und Alaaf! \nAn Weiberfastnacht am 27. Februar 2025 findet im Konzert- und Bühnenhaus die Karnevalsparty\, präsentiert von Old Butchery\, statt! \nLasse dich mit Karnevals- und Partymusik vom DJ-Pult und einer einzigartigen Lichtshow in die richtige Stimmung für die 5. Jahreszeit bringen. \nGetränke und Speisen werden vor Ort angeboten! \nVorverkauf 10 Euro\, Abendkasse 12 Euro \nTickets: https://www.eventbrite.com/e/kevelaer-beatz-altweiber-edition-tickets-1145530635969?aff=oddtdtcreator&fbclid=IwY2xjawIYL_RleHRuA2FlbQIxMAABHRBi8VlJ4ya-XHPE6Tm6ugtmtiULu3vGYkRqvENj2O7fcpSbB_gacS6clQ_aem_Kh9D22H8AZGSO2Ay6lGtHQ \nEinlass ab 18 Jahren
URL:https://kevelaer-marketing.de/event/kevelaerbeatz-karnevalsedition-2/
LOCATION:Konzert und Bühnenhaus Kevelaer\, Bühnenhaus\, Kevelaer\, 47623
ATTACH;FMTTYPE=image/jpeg:https://kevelaer-marketing.de/wp-content/uploads/2024/02/KevelaerBEATZ2024_HiRes-31-scaled-e1712299744125.jpg
END:VEVENT
END:VCALENDAR