BEGIN:VCALENDAR
VERSION:2.0
PRODID:-//Kevelaer Marketing - ECPv6.10.2//NONSGML v1.0//EN
CALSCALE:GREGORIAN
METHOD:PUBLISH
X-WR-CALNAME:Kevelaer Marketing
X-ORIGINAL-URL:https://kevelaer-marketing.de
X-WR-CALDESC:Veranstaltungen für Kevelaer Marketing
REFRESH-INTERVAL;VALUE=DURATION:PT1H
X-Robots-Tag:noindex
X-PUBLISHED-TTL:PT1H
BEGIN:VTIMEZONE
TZID:Europe/Berlin
BEGIN:DAYLIGHT
TZOFFSETFROM:+0100
TZOFFSETTO:+0200
TZNAME:CEST
DTSTART:20230326T010000
END:DAYLIGHT
BEGIN:STANDARD
TZOFFSETFROM:+0200
TZOFFSETTO:+0100
TZNAME:CET
DTSTART:20231029T010000
END:STANDARD
END:VTIMEZONE
BEGIN:VEVENT
DTSTART;TZID=Europe/Berlin:20230531T140000
DTEND;TZID=Europe/Berlin:20230531T153000
DTSTAMP:20260423T053318
CREATED:20230207T084614Z
LAST-MODIFIED:20230511T125422Z
UID:10000008-1685541600-1685547000@kevelaer-marketing.de
SUMMARY:Blick hinter die Kulissen - Rouenhof
DESCRIPTION:Am Fuße der Sonsbecker Schweiz am schönen Niederrhein liegt der 500 Jahre alte Bauernhof. Vor mehr als 25 Jahren hat die Familie Verhoeven den Familienbetrieb umgestellt mit mittlerweile 170 Ziegen\, 30 Kühen\, Schweinen und Hühnern sowie Honigbienen und Eseln. Als Bioland-Betrieb produzieren sie verschiedenste Milch- und Fleischprodukte nach organisch-biologischen Grundsätzen in der hofeigenen Käserei und Metzgerei. Besucher sind herzlich dazu eingeladen\, den Hof mit seinen „tierischen Mitarbeitern“ kennenzulernen. \nHinweise \n\nBarrierefreiheit gegeben\nFestes Schuhwerk und wetterfeste Kleidung erforderlich\nTeilnahme ab 10 Jahren\nRundgang findet auch bei Regen statt\nFotografieren erlaubt\n\nPreise \nErwachsene: 3 Euro \nKinder (6-14 Jahre): 2 Euro \nTeilnehmerzahl zwischen 10 und 50 Personen. \nTickets sind in der Tourist Information und im Ticketshop erhältlich. Einnahmen werden zu 100 % einer sozialen Einrichtung zugeführt.
URL:https://kevelaer-marketing.de/event/blick-hinter-die-kulissen-rouenhof/2023-05-31/
LOCATION:Rouenhof\, Sonsbecker Straße 40\, Kevelaer\, 47627
ATTACH;FMTTYPE=image/jpeg:https://kevelaer-marketing.de/wp-content/uploads/2023/01/Rouenhof-e1675159560179.jpg
ORGANIZER;CN="Wallfahrtsstadt Kevelaer":MAILTO:kultur@kevelaer.de
END:VEVENT
BEGIN:VEVENT
DTSTART;VALUE=DATE:20230529
DTEND;VALUE=DATE:20230619
DTSTAMP:20260423T053318
CREATED:20220411T105549Z
LAST-MODIFIED:20230511T111151Z
UID:10000053-1685318400-1687132799@kevelaer-marketing.de
SUMMARY:Stadtradeln
DESCRIPTION:Auch in diesem Jahr beteiligt sich die Wallfahrtsstadt Kevelaer zusammen mit allen weiteren Kommunen des Kreises Kleve an der Aktion STADTRADELN 2023! \nNachdem im letzten Jahr schon ganz erfolgreich Kilometer gesammelt wurden\, heißt es auch in diesem Jahr: Auf die Räder\, fertig los! \nUnter dem diesjährigen Motto: „Fiets statt Autositz“ haben Sie im Zeitraum vom 29. Mai 2023 bis zum 18. Juni 2023 die Möglichkeit so viele Kilometer wie möglich zu sammeln und so Ihren ganz persönlichen Teil dazu beizutragen unser Klima zu schützen\, den Radverkehr zu fördern\, die Lebensqualität steigern und für Ihre Gesundheit zu radeln. \nWer kann teilnehmen? \nFür Kevelaer am STADTRADELN teilnehmen kann\, wer im Stadtgebiet wohnt\, arbeitet\, zur Schule geht oder einem Kevelaerer Verein angehört. Die Kilometer müssen aber natürlich nicht vor Ort geradelt werden. Auch Kilometer die zum Beispiel im Urlaub oder im Ausland gefahren werden\, fließen in die Wertung mit ein. \nWie werden die Kilometer gezählt? \nNach der Registrierung und mit Beginn des STADRADELNS im Kreis Kleve\, können Sie Ihre gefahrenen Kilometer hier auf der Website oder in der STADTRADELN-App eintragen und bearbeiten. Eine Druckvorlage zum analogen Einreichen wird vor Beginn der Aktion auf der Seite bereitgestellt. Alternativ kann eine Abholung im Rathaus erfolgen. \nEine Anmeldung ist ab sofort über die Stadtradeln-Website möglich.
URL:https://kevelaer-marketing.de/event/stadtradeln/
LOCATION:Kevelaer\, Kevelaer\, 47623
ATTACH;FMTTYPE=image/jpeg:https://kevelaer-marketing.de/wp-content/uploads/2022/04/2021-06-23-Stadtradeln-5-scaled-e1649664242543.jpeg
ORGANIZER;CN="Wallfahrtsstadt Kevelaer":MAILTO:kultur@kevelaer.de
END:VEVENT
BEGIN:VEVENT
DTSTART;TZID=Europe/Berlin:20230517T153000
DTEND;TZID=Europe/Berlin:20230517T170000
DTSTAMP:20260423T053318
CREATED:20230110T090126Z
LAST-MODIFIED:20230508T073637Z
UID:10000078-1684337400-1684342800@kevelaer-marketing.de
SUMMARY:Kneipp Geburtstag
DESCRIPTION:Am 17. Mai 1821 wurde Sebastian Kneipp\, einer der Väter moderner Naturheilkunde geboren. Anlässlich des 202. Geburtstag findet im Solegarten St. Jakob ein Kennenlernangebot statt. \nUm Bewegung mit und im Wasser geht es im Workshop um 15.30 Uhr mit der Kneipp-Mentorin Margret Meurs\, die das Wassertreten und das kalte Armbad vorstellt. Wasseranwendungen setzen durch ihren Temperaturunterschied zu unserer Körpertemperatur einen gezielten Reiz und führen zu einer stärkeren Durchblutung der Gefäße. Regelmäßige Anwendungen haben die Wirkung\, die Regulationsfähigkeit unseres Körpers zu stärken und zu stabilisieren. Sie revitalisieren den Organismus und fördern die Immunabwehr. Treffpunkt ist am Kneipp-Becken im Solegarten St. Jakob. \nDas Angebot ist kostenfrei. Auch eine Voranmeldung ist nicht erforderlich.
URL:https://kevelaer-marketing.de/event/kneipp-geburtstag/
LOCATION:Solegarten St. Jakob\, Hüls 17\, Kevelaer\, 47623
ATTACH;FMTTYPE=image/jpeg:https://kevelaer-marketing.de/wp-content/uploads/2023/01/Kneipp-Einfuehrung-17052022_Original-2-scaled-e1674213685652.jpg
ORGANIZER;CN="Wallfahrtsstadt Kevelaer":MAILTO:kultur@kevelaer.de
END:VEVENT
BEGIN:VEVENT
DTSTART;TZID=Europe/Berlin:20230514T140000
DTEND;TZID=Europe/Berlin:20230514T140000
DTSTAMP:20260423T053318
CREATED:20230201T093854Z
LAST-MODIFIED:20230511T125008Z
UID:10000061-1684072800-1684072800@kevelaer-marketing.de
SUMMARY:Gestatten\, Mechel Schrouse! – historischer Rundgang
DESCRIPTION:Die Liebste zum Muttertag beschenken! Sich fesseln lassen von den Geschichten\, die Mechel Schrouse zusammengetragen hat\, bei einem geselligen und urigen Stadtrundgang. \nDas Gästeführer-Team des Kevelaer Marketing freut sich auf Sie! Einfach online oder in der Tourist Information Tickets sichern oder spontan zum Treffpunkt kommen. \nPreise: \nErwachsene pro Person: 6\,00 Euro\nKinder bis 5 Jahre: frei\nFamilienpreis (Kinder bis 16 Jahre): 15\,00 Euro\nTeilnehmer: max. 25 Personen
URL:https://kevelaer-marketing.de/event/gestatten-mechel-schrouse-historischer-rundgang/
LOCATION:Priesterhaus Kevelaer\, Kapellenplatz 35\, Kevelaer\, 47623
ATTACH;FMTTYPE=image/jpeg:https://kevelaer-marketing.de/wp-content/uploads/2023/01/Foto-Termin-14.05.2023_Mechel-Schrouse-05-2020-Original-e1674659361730.jpg
ORGANIZER;CN="Wallfahrtsstadt Kevelaer":MAILTO:kultur@kevelaer.de
END:VEVENT
BEGIN:VEVENT
DTSTART;TZID=Europe/Berlin:20230506T140000
DTEND;TZID=Europe/Berlin:20230506T140000
DTSTAMP:20260423T053318
CREATED:20230201T094352Z
LAST-MODIFIED:20230201T094352Z
UID:10000093-1683381600-1683381600@kevelaer-marketing.de
SUMMARY:Vitalprogramm - Kleine Heilkräuter Wanderung
DESCRIPTION:AKTIV & GESUND in der Wallfahrtsstadt Kevelaer \nMit offenen Augen und viel Spürsinn gehen wir auf eine kleine Runde – maximal 4 km in 2 Stunden. Zu den gefundenen Heil- und „Allerwelts“-Kräutern gibt es neben dem klassischen Kräuterwissen auch praktische Anregungen für den Gebrauch in Küche und Garten.
URL:https://kevelaer-marketing.de/event/vitalprogramm-kleine-heilkraeuter-wanderung/
LOCATION:Solegarten St. Jakob\, Hüls 17\, Kevelaer\, 47623
ATTACH;FMTTYPE=image/jpeg:https://kevelaer-marketing.de/wp-content/uploads/2023/01/Kleine-Heilkraeuter-Wanderung-scaled-e1675172581634.jpeg
ORGANIZER;CN="Wallfahrtsstadt Kevelaer":MAILTO:kultur@kevelaer.de
END:VEVENT
BEGIN:VEVENT
DTSTART;TZID=Europe/Berlin:20230506T110000
DTEND;TZID=Europe/Berlin:20230506T123000
DTSTAMP:20260423T053318
CREATED:20230207T084647Z
LAST-MODIFIED:20240219T145415Z
UID:10000012-1683370800-1683376200@kevelaer-marketing.de
SUMMARY:Blick hinter die Kulissen - petershaus GmbH & Co. KG
DESCRIPTION:petershaus ist ein Familienunternehmen in zweiter Generation und realisiert als Fertighausanbieter ökologische Bauprojekte seit 1965. Die Architekten-Häuser in Holzbauweise werden alle individuell geplant. Sie sind einzugartig\, garantieren hohe energetische Vorteile und ein ökologisch gesundes Raumklima. Alle Bauprojekte von petershaus – von klein bis groß – werden am Standort Kevelaer in einer hochmodernen Produktion gefertigt. Das Team von petershaus lädt ein\, sich diese Fertigung live anzusehen. \nHinweise \n\nBarrierefreiheit überwiegend gegeben\nFestes Schuhwerk erforderlich\nKinder in „Greifweite“ aufhalten\, da Maschinen und Werkzeuge im Betrieb sind\nRauchen nicht gestattet\nFotografieren erlaubt\n\nPreise \nErwachsene: 3 Euro \nKinder (6-14 Jahre): 2 Euro \nTeilnehmerzahl zwischen 12 und 40 Personen. \nTickets sind in der Tourist Information und im Ticketshop erhältlich. Einnahmen werden zu 100 % einer sozialen Einrichtung zugeführt.
URL:https://kevelaer-marketing.de/event/blick-hinter-die-kulissen-petershaus-gmbh-co-kg/2023-05-06/
LOCATION:Fertigung von petershaus\, Gewerbering 13\, Kevelaer\, 47623
ATTACH;FMTTYPE=image/png:https://kevelaer-marketing.de/wp-content/uploads/2023/01/petershaus-e1675163469861.png
ORGANIZER;CN="Wallfahrtsstadt Kevelaer":MAILTO:kultur@kevelaer.de
END:VEVENT
BEGIN:VEVENT
DTSTART;TZID=Europe/Berlin:20230503T143000
DTEND;TZID=Europe/Berlin:20230503T160000
DTSTAMP:20260423T053318
CREATED:20230207T084647Z
LAST-MODIFIED:20240219T145415Z
UID:10000011-1683124200-1683129600@kevelaer-marketing.de
SUMMARY:Blick hinter die Kulissen - petershaus GmbH & Co. KG
DESCRIPTION:petershaus ist ein Familienunternehmen in zweiter Generation und realisiert als Fertighausanbieter ökologische Bauprojekte seit 1965. Die Architekten-Häuser in Holzbauweise werden alle individuell geplant. Sie sind einzugartig\, garantieren hohe energetische Vorteile und ein ökologisch gesundes Raumklima. Alle Bauprojekte von petershaus – von klein bis groß – werden am Standort Kevelaer in einer hochmodernen Produktion gefertigt. Das Team von petershaus lädt ein\, sich diese Fertigung live anzusehen. \nHinweise \n\nBarrierefreiheit überwiegend gegeben\nFestes Schuhwerk erforderlich\nKinder in „Greifweite“ aufhalten\, da Maschinen und Werkzeuge im Betrieb sind\nRauchen nicht gestattet\nFotografieren erlaubt\n\nPreise \nErwachsene: 3 Euro \nKinder (6-14 Jahre): 2 Euro \nTeilnehmerzahl zwischen 12 und 40 Personen. \nTickets sind in der Tourist Information und im Ticketshop erhältlich. Einnahmen werden zu 100 % einer sozialen Einrichtung zugeführt.
URL:https://kevelaer-marketing.de/event/blick-hinter-die-kulissen-petershaus-gmbh-co-kg/2023-05-03/
LOCATION:Fertigung von petershaus\, Gewerbering 13\, Kevelaer\, 47623
ATTACH;FMTTYPE=image/png:https://kevelaer-marketing.de/wp-content/uploads/2023/01/petershaus-e1675163469861.png
ORGANIZER;CN="Wallfahrtsstadt Kevelaer":MAILTO:kultur@kevelaer.de
END:VEVENT
BEGIN:VEVENT
DTSTART;TZID=Europe/Berlin:20230430T110000
DTEND;TZID=Europe/Berlin:20230430T110000
DTSTAMP:20260423T053318
CREATED:20230417T062642Z
LAST-MODIFIED:20230417T062642Z
UID:10000121-1682852400-1682852400@kevelaer-marketing.de
SUMMARY:Gästeführung Solegarten St. Jakob – Von der Quelle zum Lieblingsort
DESCRIPTION:Alles über die Entstehung und Nutzung des Solegartens St. Jakob mit dem einzigartigen Gradierwerk in Muschelform erfahren und dabei sogar Meeresbrise schnuppern. \nAnlässlich der Niederrheinischen Reisemobiltage findet diese Führung kostenfrei statt. Eine Anmeldung ist nicht erforderlich. Einfach zum Treffpunkt kommen und teilnehmen – egal\, ob Reisemobilist oder nicht.
URL:https://kevelaer-marketing.de/event/gaestefuehrung-solegarten-st-jakob-von-der-quelle-zum-lieblingsort/
LOCATION:Solegarten St. Jakob\, Hüls 17\, Kevelaer\, 47623
ATTACH;FMTTYPE=image/jpeg:https://kevelaer-marketing.de/wp-content/uploads/2023/04/Gefuehrte-Fahrradtour_2021-07-21-31-scaled-e1680527036545.jpeg
ORGANIZER;CN="Wallfahrtsstadt Kevelaer":MAILTO:kultur@kevelaer.de
END:VEVENT
BEGIN:VEVENT
DTSTART;TZID=Europe/Berlin:20230429T143000
DTEND;TZID=Europe/Berlin:20230429T160000
DTSTAMP:20260423T053318
CREATED:20230207T084614Z
LAST-MODIFIED:20230511T125422Z
UID:10000007-1682778600-1682784000@kevelaer-marketing.de
SUMMARY:Blick hinter die Kulissen - Rouenhof
DESCRIPTION:Am Fuße der Sonsbecker Schweiz am schönen Niederrhein liegt der 500 Jahre alte Bauernhof. Vor mehr als 25 Jahren hat die Familie Verhoeven den Familienbetrieb umgestellt mit mittlerweile 170 Ziegen\, 30 Kühen\, Schweinen und Hühnern sowie Honigbienen und Eseln. Als Bioland-Betrieb produzieren sie verschiedenste Milch- und Fleischprodukte nach organisch-biologischen Grundsätzen in der hofeigenen Käserei und Metzgerei. Besucher sind herzlich dazu eingeladen\, den Hof mit seinen „tierischen Mitarbeitern“ kennenzulernen. \nHinweise \n\nBarrierefreiheit gegeben\nFestes Schuhwerk und wetterfeste Kleidung erforderlich\nTeilnahme ab 10 Jahren\nRundgang findet auch bei Regen statt\nFotografieren erlaubt\n\nPreise \nErwachsene: 3 Euro \nKinder (6-14 Jahre): 2 Euro \nTeilnehmerzahl zwischen 10 und 50 Personen. \nTickets sind in der Tourist Information und im Ticketshop erhältlich. Einnahmen werden zu 100 % einer sozialen Einrichtung zugeführt.
URL:https://kevelaer-marketing.de/event/blick-hinter-die-kulissen-rouenhof/2023-04-29/
LOCATION:Rouenhof\, Sonsbecker Straße 40\, Kevelaer\, 47627
ATTACH;FMTTYPE=image/jpeg:https://kevelaer-marketing.de/wp-content/uploads/2023/01/Rouenhof-e1675159560179.jpg
ORGANIZER;CN="Wallfahrtsstadt Kevelaer":MAILTO:kultur@kevelaer.de
END:VEVENT
BEGIN:VEVENT
DTSTART;TZID=Europe/Berlin:20230427T200000
DTEND;TZID=Europe/Berlin:20230427T200000
DTSTAMP:20260423T053318
CREATED:20220729T090025Z
LAST-MODIFIED:20220805T100810Z
UID:10000095-1682625600-1682625600@kevelaer-marketing.de
SUMMARY:Theater "Miss Daisy und ihr Chauffeur"
DESCRIPTION:Schauspiel von Alfred Uhry\nMit Doris Kunstmann\, Ron Williams\, Benjamin Kernen \nProduktion: Tourneetheater Thespiskarren \nEs spielt in Atlanta\, Georgia\, im Jahr 1948: Miss Daisy ist eine 72-jährige pensionierte Schullehrerin. Nachdem sie eines Tages mit ihrem Auto einen Unfall verursacht hat\, kauft Sohn Boolie einen neuen Wagen und engagiert den Schwarzen Hoke Colburn als Chauffeur. Mit Ausdauer und unbeeindruckt von mancher unfreundlichen Bemerkung der alten Dame schafft es Hoke schließlich\, dass Miss Daisy in den Wagen einsteigt\, und allmählich entsteht während der gemeinsamen Ausfahrten zwischen dem ungleichen Paar eine respektvolle Sympathie. \nEinlass: 19 Uhr\nBeginn: 20 Uhr
URL:https://kevelaer-marketing.de/event/theater-miss-daisy-und-ihr-chauffeur/
LOCATION:Konzert- und Bühnenhaus der Wallfahrtsstadt Kevelaer\, Bury-St. Edmunds-Str. 5\, Kevelaer\, 47623
ATTACH;FMTTYPE=image/jpeg:https://kevelaer-marketing.de/wp-content/uploads/2022/07/miss-daisy-4_c_dietrich-dettmann-scaled-1-e1659077055217.jpg
ORGANIZER;CN="Wallfahrtsstadt Kevelaer":MAILTO:kultur@kevelaer.de
END:VEVENT
END:VCALENDAR