BEGIN:VCALENDAR
VERSION:2.0
PRODID:-//Kevelaer Marketing - ECPv6.10.2//NONSGML v1.0//EN
CALSCALE:GREGORIAN
METHOD:PUBLISH
X-ORIGINAL-URL:https://kevelaer-marketing.de
X-WR-CALDESC:Veranstaltungen für Kevelaer Marketing
REFRESH-INTERVAL;VALUE=DURATION:PT1H
X-Robots-Tag:noindex
X-PUBLISHED-TTL:PT1H
BEGIN:VTIMEZONE
TZID:Europe/Berlin
BEGIN:DAYLIGHT
TZOFFSETFROM:+0100
TZOFFSETTO:+0200
TZNAME:CEST
DTSTART:20230326T010000
END:DAYLIGHT
BEGIN:STANDARD
TZOFFSETFROM:+0200
TZOFFSETTO:+0100
TZNAME:CET
DTSTART:20231029T010000
END:STANDARD
BEGIN:DAYLIGHT
TZOFFSETFROM:+0100
TZOFFSETTO:+0200
TZNAME:CEST
DTSTART:20240331T010000
END:DAYLIGHT
BEGIN:STANDARD
TZOFFSETFROM:+0200
TZOFFSETTO:+0100
TZNAME:CET
DTSTART:20241027T010000
END:STANDARD
END:VTIMEZONE
BEGIN:VEVENT
DTSTART;TZID=Europe/Berlin:20240524T200000
DTEND;TZID=Europe/Berlin:20240524T220000
DTSTAMP:20260424T174124
CREATED:20230815T143517Z
LAST-MODIFIED:20240104T072906Z
UID:10000239-1716580800-1716588000@kevelaer-marketing.de
SUMMARY:Konzert mit Orgel und E-Gitarre
DESCRIPTION:Ein außergewöhnliches Konzert\, bei dem Basilika-Organist Paul Lammers (Orgel) gemeinsam mit Levin Ripkens (E-Gitarre) verschiedene Musikstücke präsentiert. \nEintrittskarten sind erhältlich im Ladenlokal Jacobs auf dem Kapellenplatz sowie im Onlineshop unter www.wallfahrt-kevelaer.de .
URL:https://kevelaer-marketing.de/event/konzert-mit-orgel-und-e-gitarre/
LOCATION:Basilika\, Kapellenplatz\, Kevelaer\, 47623\, Deutschland
ATTACH;FMTTYPE=image/jpeg:https://kevelaer-marketing.de/wp-content/uploads/2021/10/Orgel-01-2021-Seifert-Original-scaled-e1692110112108.jpg
ORGANIZER;CN="Orgelbauverein Kevelaer e.V.":MAILTO:info@orgelbauverein-kevelaer.de
END:VEVENT
BEGIN:VEVENT
DTSTART;TZID=Europe/Berlin:20240430T200000
DTEND;TZID=Europe/Berlin:20240430T220000
DTSTAMP:20260424T174124
CREATED:20230825T080652Z
LAST-MODIFIED:20240104T072814Z
UID:10000241-1714507200-1714514400@kevelaer-marketing.de
SUMMARY:Orgelkonzert zur Eröffnung der Wallfahrt
DESCRIPTION:Anlässlich der Eröffnung der Wallfahrt findet ein Orgelkonzert mit Olivier Latry aus Paris statt. \nEintrittskarten sind erhältlich im Ladenlokal Jacobs auf dem Kapellenplatz sowie im Onlineshop unter www.wallfahrt-kevelaer.de .
URL:https://kevelaer-marketing.de/event/orgelkonzert-zur-eroeffnung-der-wallfahrt/
LOCATION:Basilika\, Kapellenplatz\, Kevelaer\, 47623\, Deutschland
ATTACH;FMTTYPE=image/jpeg:https://kevelaer-marketing.de/wp-content/uploads/2021/12/Basilika-Fenster-2-01-2021-Seifert-Original-e1639729754933.jpg
ORGANIZER;CN="Orgelbauverein Kevelaer e.V.":MAILTO:info@orgelbauverein-kevelaer.de
END:VEVENT
BEGIN:VEVENT
DTSTART;TZID=Europe/Berlin:20240426T200000
DTEND;TZID=Europe/Berlin:20240426T200000
DTSTAMP:20260424T174124
CREATED:20231213T131914Z
LAST-MODIFIED:20240115T125447Z
UID:10000336-1714161600-1714161600@kevelaer-marketing.de
SUMMARY:Orgelkonzert
DESCRIPTION:In der Marienbasilika findet ein besonderes Konzert mit dem britischen Organisten Jonathan Scott statt. \nEintritt 15 Euro \nEintrittskarten sind erhältlich im Ladenlokal Jacobs auf dem Kapellenplatz sowie im Onlineshop unter www.wallfahrt-kevelaer.de . \n 
URL:https://kevelaer-marketing.de/event/orgelkonzert/
LOCATION:Basilika\, Kapellenplatz\, Kevelaer\, 47623\, Deutschland
ATTACH;FMTTYPE=image/jpeg:https://kevelaer-marketing.de/wp-content/uploads/2021/05/BasilikaHoch000-Original-G.-Seybert-scaled-e1692109965576.jpg
ORGANIZER;CN="Orgelbauverein Kevelaer e.V.":MAILTO:info@orgelbauverein-kevelaer.de
END:VEVENT
BEGIN:VEVENT
DTSTART;TZID=Europe/Berlin:20240401T163000
DTEND;TZID=Europe/Berlin:20240401T163000
DTSTAMP:20260424T174124
CREATED:20231213T131826Z
LAST-MODIFIED:20240104T072547Z
UID:10000334-1711989000-1711989000@kevelaer-marketing.de
SUMMARY:Konzert: Farben und Klangfarben
DESCRIPTION:In der Marienbasilika werden einige österliche Kunstwerke von Veronika Degenfeld präsentiert und Orgelpräsentationen von Elmar Lehnen zum Besten gegeben. \nEintrittskarten sind erhältlich im Ladenlokal Jacobs auf dem Kapellenplatz sowie im Onlineshop unter www.wallfahrt-kevelaer.de .
URL:https://kevelaer-marketing.de/event/konzert-farben-und-klangfarben/
LOCATION:Basilika\, Kapellenplatz\, Kevelaer\, 47623\, Deutschland
ATTACH;FMTTYPE=image/jpeg:https://kevelaer-marketing.de/wp-content/uploads/2021/05/BasilikaHoch000-Original-G.-Seybert-scaled-e1692109965576.jpg
ORGANIZER;CN="Orgelbauverein Kevelaer e.V.":MAILTO:info@orgelbauverein-kevelaer.de
END:VEVENT
BEGIN:VEVENT
DTSTART;TZID=Europe/Berlin:20240327T200000
DTEND;TZID=Europe/Berlin:20240327T200000
DTSTAMP:20260424T174124
CREATED:20240226T150043Z
LAST-MODIFIED:20240311T115555Z
UID:10000397-1711569600-1711569600@kevelaer-marketing.de
SUMMARY:Symphonie passion
DESCRIPTION:In der Karwoche finden einige Abendmeditationen in der Basilika statt. Besucher können sich auf „Symphonie passion“ von Marcel Dupré freuen. Joachim Oehm begleitet diesen besonderen Abend an der Orgel.
URL:https://kevelaer-marketing.de/event/symphonie-passion/
LOCATION:Basilika\, Kapellenplatz\, Kevelaer\, 47623\, Deutschland
ATTACH;FMTTYPE=image/jpeg:https://kevelaer-marketing.de/wp-content/uploads/2021/10/Orgel-01-2021-Seifert-Original-scaled-e1692110112108.jpg
ORGANIZER;CN="Orgelbauverein Kevelaer e.V.":MAILTO:info@orgelbauverein-kevelaer.de
END:VEVENT
BEGIN:VEVENT
DTSTART;TZID=Europe/Berlin:20240326T200000
DTEND;TZID=Europe/Berlin:20240326T200000
DTSTAMP:20260424T174124
CREATED:20240226T150029Z
LAST-MODIFIED:20240226T150029Z
UID:10000396-1711483200-1711483200@kevelaer-marketing.de
SUMMARY:Abendmeditation in der Basilika
DESCRIPTION:In der Basilika findet eine Abendmeditation statt\, die vom Knabenchor der Basilikamusik gestaltet wird. Dabei gibt es Motetten von Mauersberger\, Jenkins und Rheinberger. Musikalisch begleitet wird der Abend von Elmar Lehnen an der Orgel und unter der Gesamtleitung von Basilikakantor Sebastian Piel.
URL:https://kevelaer-marketing.de/event/abendmeditation-in-der-basilika/
LOCATION:Basilika\, Kapellenplatz\, Kevelaer\, 47623\, Deutschland
ATTACH;FMTTYPE=image/jpeg:https://kevelaer-marketing.de/wp-content/uploads/2021/06/Gruppenpauschale-Kulinarik-Genuss-und-Kultur-Basilika-Malerei-2-01-2021-Seifert-Original-scaled-e1692110048120.jpg
ORGANIZER;CN="Orgelbauverein Kevelaer e.V.":MAILTO:info@orgelbauverein-kevelaer.de
END:VEVENT
BEGIN:VEVENT
DTSTART;TZID=Europe/Berlin:20240315T200000
DTEND;TZID=Europe/Berlin:20240315T220000
DTSTAMP:20260424T174124
CREATED:20230815T143442Z
LAST-MODIFIED:20240311T115051Z
UID:10000237-1710532800-1710540000@kevelaer-marketing.de
SUMMARY:Orgelkonzert "Ave Maris Stella"
DESCRIPTION:Basilika-Organist Elmar Lehnen spielt verschiedene Werke von Künstlern wie Pierre Cocherau und Marcel Dupré. \nEintritt 10 Euro \nEintrittskarten sind erhältlich im Ladenlokal Jacobs auf dem Kapellenplatz sowie im Onlineshop unter www.wallfahrt-kevelaer.de .
URL:https://kevelaer-marketing.de/event/orgelkonzert-mit-basilika-organist-elmar-lehnen/
LOCATION:Basilika\, Kapellenplatz\, Kevelaer\, 47623\, Deutschland
ATTACH;FMTTYPE=image/jpeg:https://kevelaer-marketing.de/wp-content/uploads/2021/05/BasilikaHoch000-Original-G.-Seybert-scaled-e1692109965576.jpg
ORGANIZER;CN="Orgelbauverein Kevelaer e.V.":MAILTO:info@orgelbauverein-kevelaer.de
END:VEVENT
BEGIN:VEVENT
DTSTART;TZID=Europe/Berlin:20240308T200000
DTEND;TZID=Europe/Berlin:20240308T220000
DTSTAMP:20260424T174124
CREATED:20230815T143416Z
LAST-MODIFIED:20240229T084212Z
UID:10000234-1709928000-1709935200@kevelaer-marketing.de
SUMMARY:Symphoniekonzert
DESCRIPTION:Konzert für Orgel und Orchester – ein außergewöhnlicher Hörgenuss\, präsentiert von Prof. Wolfgang Seifen (Orgel) und dem Rheinischen Oratorienorchester unter der Leitung von Constantin Alex. Gespielt werden u.a. einige Werke von W. Seifen und Respighi. \nEintritt 28 Euro \nEintrittskarten sind erhältlich im Ladenlokal Jacobs auf dem Kapellenplatz sowie im Onlineshop unter www.wallfahrt-kevelaer.de .
URL:https://kevelaer-marketing.de/event/konzert-fuer-orgel-und-orchester/
LOCATION:Basilika\, Kapellenplatz\, Kevelaer\, 47623\, Deutschland
ATTACH;FMTTYPE=image/jpeg:https://kevelaer-marketing.de/wp-content/uploads/2021/06/Gruppenpauschale-Kulinarik-Genuss-und-Kultur-Basilika-Malerei-2-01-2021-Seifert-Original-scaled-e1692110048120.jpg
ORGANIZER;CN="Orgelbauverein Kevelaer e.V.":MAILTO:info@orgelbauverein-kevelaer.de
END:VEVENT
BEGIN:VEVENT
DTSTART;TZID=Europe/Berlin:20240113T140000
DTEND;TZID=Europe/Berlin:20240113T140000
DTSTAMP:20260424T174124
CREATED:20230815T065809Z
LAST-MODIFIED:20230828T092853Z
UID:10000085-1705154400-1705154400@kevelaer-marketing.de
SUMMARY:Orgelführung in der Marienbasilika
DESCRIPTION:Eindrücke und Klanggenuss der besonderen Art \nDie große Seifert-Orgel in der Marienbasilika\, ein musikalisches Juwel\, möchte sich wieder präsentieren. Nach langen Rekonstruierungsarbeiten ist die Vorfreude auf den wahren und einzigartigen Klang riesengroß. Neben der Geschichte und den Erläuterungen zu den Arbeiten wird diese Orgel\, die Königin unter den Orgeln\, klangvoll vom Organisten demonstriert. Ein musikalisches Erlebnis und wahrer Klanggenuss!
URL:https://kevelaer-marketing.de/event/orgelfuehrung-in-der-marienbasilika/
LOCATION:Basilika\, Kapellenplatz\, Kevelaer\, 47623\, Deutschland
ATTACH;FMTTYPE=image/jpeg:https://kevelaer-marketing.de/wp-content/uploads/2023/08/Termin-2024-01-13-Orgelfuehrung-04.2023_017-e1692082679376.jpeg
ORGANIZER;CN="Wallfahrtsstadt Kevelaer":MAILTO:kultur@kevelaer.de
END:VEVENT
BEGIN:VEVENT
DTSTART;TZID=Europe/Berlin:20231208T200000
DTEND;TZID=Europe/Berlin:20231208T200000
DTSTAMP:20260424T174124
CREATED:20230629T133911Z
LAST-MODIFIED:20230629T133911Z
UID:10000209-1702065600-1702065600@kevelaer-marketing.de
SUMMARY:Kevelaer feiert Advent
DESCRIPTION:„Jauchzet Gott in allen Landen” – adventliches Festkonzert in der Marienbasilika\n \nEs musizieren der Mädchenchor\, der Familienchor und der Kammerchor der Basilikamusik unter der Leitung von Romano Giefer. Neben dem Rheinischen Oratorienorchester wirken die Sopranistinnen Benita und Daria Borbonus sowie der Trompeter Michael Fragen mit. Die Orgel spielt Basilikaorganist Elmar Lehnen. Die Moderation des Abends liegt in den Händen von Dr. Bastian Rütten. \nEintrittskarten zum Preis von 19\,00 Euro für diesen besonderen Abend sind ab dem 1. September 2023 im Ladenlokal Jacobs auf dem Kapellenplatz\, sowie im Onlineshop unter www.wallfahrt-kevelaer.de erhältlich. \n 
URL:https://kevelaer-marketing.de/event/kevelaer-feiert-advent/
LOCATION:Basilika\, Kapellenplatz\, Kevelaer\, 47623\, Deutschland
ATTACH;FMTTYPE=image/jpeg:https://kevelaer-marketing.de/wp-content/uploads/2023/06/Kevelaer-feiert-Advent-2023-06-Malte-Fiedler-scaled-e1686653683320.jpg
END:VEVENT
BEGIN:VEVENT
DTSTART;TZID=Europe/Berlin:20231102T200000
DTEND;TZID=Europe/Berlin:20231102T200000
DTSTAMP:20260424T174124
CREATED:20230830T082651Z
LAST-MODIFIED:20231030T115522Z
UID:10000249-1698955200-1698955200@kevelaer-marketing.de
SUMMARY:Benefizkonzert "Verdi Requiem"
DESCRIPTION:Bei dem Benefizkonzert „Verdi Requiem“ werden vom Süddeutschen Ärztechor und Orchester nach einer konzentrierten Probenwoche in der Stadt einige musikalische Werke präsentiert. Das Benefizkonzert ist für die Aktion „Humanität“ bestimmt.
URL:https://kevelaer-marketing.de/event/benefizkonzert-verdi-requiem/
LOCATION:Basilika\, Kapellenplatz\, Kevelaer\, 47623\, Deutschland
ATTACH;FMTTYPE=image/jpeg:https://kevelaer-marketing.de/wp-content/uploads/2023/06/Kevelaer-feiert-Advent-2023-06-Malte-Fiedler-scaled-e1686653683320.jpg
END:VEVENT
BEGIN:VEVENT
DTSTART;TZID=Europe/Berlin:20231101T100000
DTEND;TZID=Europe/Berlin:20231101T100000
DTSTAMP:20260424T174124
CREATED:20230303T112742Z
LAST-MODIFIED:20230303T112742Z
UID:10000104-1698832800-1698832800@kevelaer-marketing.de
SUMMARY:Abschluss der Wallfahrt
DESCRIPTION:10 Uhr: Pontifikalamt mit dem Bischof von Augsburg\, Bertram Meier; anschließende Erteilung des Päpstlichen Segens
URL:https://kevelaer-marketing.de/event/abschluss-der-wallfahrt/
LOCATION:Basilika\, Kapellenplatz\, Kevelaer\, 47623\, Deutschland
ATTACH;FMTTYPE=image/jpeg:https://kevelaer-marketing.de/wp-content/uploads/2021/06/Gruppenpauschale-Kulinarik-Genuss-und-Kultur-Basilika-Malerei-2-01-2021-Seifert-Original-scaled-e1692110048120.jpg
END:VEVENT
BEGIN:VEVENT
DTSTART;TZID=Europe/Berlin:20231027T200000
DTEND;TZID=Europe/Berlin:20231027T200000
DTSTAMP:20260424T174124
CREATED:20231018T051005Z
LAST-MODIFIED:20231018T051005Z
UID:10000263-1698436800-1698436800@kevelaer-marketing.de
SUMMARY:Klang(T)raum Basilika
DESCRIPTION:Das „Trio Ostinato“ spielt in der Basilika. Außergewöhnlich an diesen Gästen ist sowohl die Konstellation der Instrumente als auch die Musik\, mit der sie den Raum in Schwingung versetzen werden. Für dieses Konzert werden drei Konzertflügel in die Basilika gebracht. \nHerzstück des Abends ist das Stück „Canto Ostinato“\, was so viel bedeutet wie „fortwährender Gesang“. Canto Ostinato\, ein Kultstück in den Niederlanden\, ist komponiert vom niederländischen Komponisten Simeon ten Holt im Jahre 1979\, ein abendfüllendes Stück ohne Unterbrechung im tonalen\, minimalistischen Stil. Es ist gebaut aus kleinsten motivischen Einheiten\, die beliebig oft wiederholt werden können. Dieses Verfahren erzeugt eine Musik\, die sich wellenartig in Bewegung setzt\, gleich einer Wasseroberfläche. \nDer Eintritt zu diesem Abend ist frei.
URL:https://kevelaer-marketing.de/event/klangtraum-basilika/
LOCATION:Basilika\, Kapellenplatz\, Kevelaer\, 47623\, Deutschland
ATTACH;FMTTYPE=image/jpeg:https://kevelaer-marketing.de/wp-content/uploads/2023/10/Trio-Ostinato-in-der-Marienbasilika-scaled-e1697443394585.jpg
ORGANIZER;CN="Orgelbauverein Kevelaer e.V.":MAILTO:info@orgelbauverein-kevelaer.de
END:VEVENT
BEGIN:VEVENT
DTSTART;TZID=Europe/Berlin:20231003T114500
DTEND;TZID=Europe/Berlin:20231003T114500
DTSTAMP:20260424T174124
CREATED:20220728T090244Z
LAST-MODIFIED:20230303T112714Z
UID:10000049-1696333500-1696333500@kevelaer-marketing.de
SUMMARY:Oldtimer-Trecker-Wallfahrt
DESCRIPTION:11.45 Uhr: Pilgermesse in der Basilika \n14.30 Uhr: Segnung der Fahrerinnen und Fahrer und der Fahrzeuge auf dem Kapellenplatz
URL:https://kevelaer-marketing.de/event/oldtimer-trecker-wallfahrt/
LOCATION:Basilika\, Kapellenplatz\, Kevelaer\, 47623\, Deutschland
ATTACH;FMTTYPE=image/jpeg:https://kevelaer-marketing.de/wp-content/uploads/2022/04/Wallfahrt-Kreuz-vor-Gnadenkapelle-07-2018-G.-Seybert-Original-scaled-e1651219289610.jpg
END:VEVENT
BEGIN:VEVENT
DTSTART;TZID=Europe/Berlin:20230913T200000
DTEND;TZID=Europe/Berlin:20230913T220000
DTSTAMP:20260424T174124
CREATED:20230814T142758Z
LAST-MODIFIED:20230814T142758Z
UID:10000225-1694635200-1694642400@kevelaer-marketing.de
SUMMARY:Konzert für Sopran und Orgel
DESCRIPTION:An diesem besonderen Konzertabend spielen Henrike Jacob und Elmar Lehnen verschiedene Werke für Sopran und Orgel. \nEintritt 10 Euro\, ermäßigt 8 Euro \nAusschließlich an der Abendkasse
URL:https://kevelaer-marketing.de/event/konzert-fuer-sopran-und-orgel/
LOCATION:Basilika\, Kapellenplatz\, Kevelaer\, 47623\, Deutschland
ATTACH;FMTTYPE=image/jpeg:https://kevelaer-marketing.de/wp-content/uploads/2022/09/Orgel-Marienbasilika-08-2021-Original-4-scaled-e1692002733265.jpg
ORGANIZER;CN="Orgelbauverein Kevelaer e.V.":MAILTO:info@orgelbauverein-kevelaer.de
END:VEVENT
BEGIN:VEVENT
DTSTART;TZID=Europe/Berlin:20230611T100000
DTEND;TZID=Europe/Berlin:20230611T100000
DTSTAMP:20260424T174124
CREATED:20230303T112644Z
LAST-MODIFIED:20230303T112644Z
UID:10000001-1686477600-1686477600@kevelaer-marketing.de
SUMMARY:Ostkirchentag
DESCRIPTION:10 Uhr: Byzantinische Pontifikalliturgie im ukrainischen Ritus mit dem Apostolischen Exarchen für die katholischen Ukrainer des slawisch-byzantinischen Ritus in Deutschland und Skandinavien\, Bischof Bohdan Dzyurakh; es singt der Theodosius-Chor Kevelaer \n15 Uhr: Ostkirchliche Andacht
URL:https://kevelaer-marketing.de/event/ostkirchentag/
LOCATION:Basilika\, Kapellenplatz\, Kevelaer\, 47623\, Deutschland
ATTACH;FMTTYPE=image/jpeg:https://kevelaer-marketing.de/wp-content/uploads/2021/06/Gruppenpauschale-Kulinarik-Genuss-und-Kultur-Basilika-Malerei-2-01-2021-Seifert-Original-scaled-e1692110048120.jpg
END:VEVENT
BEGIN:VEVENT
DTSTART;TZID=Europe/Berlin:20230501T100000
DTEND;TZID=Europe/Berlin:20230501T100000
DTSTAMP:20260424T174124
CREATED:20230303T112629Z
LAST-MODIFIED:20230303T112629Z
UID:10000002-1682935200-1682935200@kevelaer-marketing.de
SUMMARY:Eröffnung der Wallfahrtszeit 2023
DESCRIPTION:Eröffnung der Wallfahrtszeit mit Öffnung der Pilgerpforte \nUm 10 Uhr findet das Pontifikalamt mit dem Bischof von Trondheim/Norwegen\, Erik Varden OCSO.
URL:https://kevelaer-marketing.de/event/eroeffnung-der-wallfahrtszeit-2023/
LOCATION:Basilika\, Kapellenplatz\, Kevelaer\, 47623\, Deutschland
ATTACH;FMTTYPE=image/jpeg:https://kevelaer-marketing.de/wp-content/uploads/2022/04/Wallfahrtseroeffnung-05-2018-G.-Seybert-Original-scaled-e1651218826699.jpg
END:VEVENT
END:VCALENDAR