BEGIN:VCALENDAR
VERSION:2.0
PRODID:-//Kevelaer Marketing - ECPv6.10.2//NONSGML v1.0//EN
CALSCALE:GREGORIAN
METHOD:PUBLISH
X-ORIGINAL-URL:https://kevelaer-marketing.de
X-WR-CALDESC:Veranstaltungen für Kevelaer Marketing
REFRESH-INTERVAL;VALUE=DURATION:PT1H
X-Robots-Tag:noindex
X-PUBLISHED-TTL:PT1H
BEGIN:VTIMEZONE
TZID:Europe/Berlin
BEGIN:DAYLIGHT
TZOFFSETFROM:+0100
TZOFFSETTO:+0200
TZNAME:CEST
DTSTART:20260329T010000
END:DAYLIGHT
BEGIN:STANDARD
TZOFFSETFROM:+0200
TZOFFSETTO:+0100
TZNAME:CET
DTSTART:20261025T010000
END:STANDARD
END:VTIMEZONE
BEGIN:VEVENT
DTSTART;TZID=Europe/Berlin:20260927T110000
DTEND;TZID=Europe/Berlin:20260927T170000
DTSTAMP:20260420T160541
CREATED:20260420T084816Z
LAST-MODIFIED:20260420T090338Z
UID:10004040-1790506800-1790528400@kevelaer-marketing.de
SUMMARY:Gewerberingfest
DESCRIPTION:Beim diesjährigen Gewerbefest öffnen Kevelaerer Unternehmen am Gewerbering ihre Türen und zeigen ihre Betriebe\, Produkte und Maschinen. Besucher können die vielfältige Wirtschaft Kevelaers kennenlernen und sich über Vereinsangebote informieren. Für die kleinen Besucher gibt es zahlreiche Attraktionen wie Hüpfburg\, Minibaggerfahren oder Buddeln im Sandkasten. Ein abwechslungsreiches gastronomisches Angebot rundet den Besuch des Gewerbefests ab. \nDie Anreise mit dem Fahrrad wird empfohlen. Parkmöglichkeiten stehen fußläufig auf umliegenden Flächen zur Verfügung.
URL:https://kevelaer-marketing.de/event/gewerberingfest/
LOCATION:Gewerbegebiet Gewerbering\, Gewerbering\, Kevelaer\, 47623
ATTACH;FMTTYPE=image/jpeg:https://kevelaer-marketing.de/wp-content/uploads/2026/04/Gewerbefest-09-2024-Gerry-Seybert-4-scaled.jpg
ORGANIZER;CN="Wallfahrtsstadt Kevelaer":MAILTO:kultur@kevelaer.de
END:VEVENT
END:VCALENDAR