BEGIN:VCALENDAR
VERSION:2.0
PRODID:-//Kevelaer Marketing - ECPv6.10.2//NONSGML v1.0//EN
CALSCALE:GREGORIAN
METHOD:PUBLISH
X-ORIGINAL-URL:https://kevelaer-marketing.de
X-WR-CALDESC:Veranstaltungen für Kevelaer Marketing
REFRESH-INTERVAL;VALUE=DURATION:PT1H
X-Robots-Tag:noindex
X-PUBLISHED-TTL:PT1H
BEGIN:VTIMEZONE
TZID:Europe/Berlin
BEGIN:DAYLIGHT
TZOFFSETFROM:+0100
TZOFFSETTO:+0200
TZNAME:CEST
DTSTART:20250330T010000
END:DAYLIGHT
BEGIN:STANDARD
TZOFFSETFROM:+0200
TZOFFSETTO:+0100
TZNAME:CET
DTSTART:20251026T010000
END:STANDARD
END:VTIMEZONE
BEGIN:VEVENT
DTSTART;TZID=Europe/Berlin:20251215T192000
DTEND;TZID=Europe/Berlin:20251215T203000
DTSTAMP:20260420T131540
CREATED:20250924T074304Z
LAST-MODIFIED:20250924T074304Z
UID:10003759-1765826400-1765830600@kevelaer-marketing.de
SUMMARY:Meditatives Klangkonzert
DESCRIPTION:Wohltuende Klänge können dabei helfen\, einen meditativen Zustand zu erreichen\, um Geist und Nervensystem zu beruhigen. Der Kevelaerer Musiker Daniel Wouters läd zu einem meditativen Klangkonzert im Meditationsraum im Klostergarten ein. Zum Einsatz kommen unter anderem Klangschalen\, Monochord\, Gong und Rahmentrommel. Gerade für Menschen ohne Meditationserfahrung oder Personen\, die sich mit stiller Meditation schwer tun\, eignen sich Klangmeditationen sehr gut. Nach einer kurzen Einleitung geht es während des Konzertes nur darum\, den improvisierten Klängen zu lauschen und die entspannende Wirkung auf Geist und Körper wahrzunehmen. Abschweifende Gedanken über Alltagssorgen\, Zukünftiges oder Vergangenes haben in dieser Zeit Pause. Im Fokus der Aufmerksamkeit stehen nur der Klang und die Resonanz im eigene Körper im Hier und Jetzt. Innere Bilder und Gefühle\, die in diesem Zustand auftauchen\, sind willkommen. Sie können betrachtet\, gefühlt und anschließend verabschiedet werden\, wenn der Klang als Anker immer wieder ins Zentrum der Wahrnehmung rückt. Das Konzert dauert etwa 45 Minuten. Es ist anschließend noch etwas Zeit\, langsam und in Ruhe wieder im Raum anzukommen. Matten\, Decken und Kissen für ein entspanntes Liegen oder Sitzen dürfen gerne mitgebracht werden. Ein frei wählbarer Kostenbeitrag von 10 bis 15 Euro pro Konzert kann nach dem Konzert in den Hut gelegt werden. \nAnmeldungen und Anfragen können per E-mail an daniel.wouters@web.de gesendet werden. \nEinlass: 19.20 Uhr
URL:https://kevelaer-marketing.de/event/meditatives-klangkonzert/2025-12-15/
LOCATION:Hotel Klostergarten\, Klostergarten 1\, Kevelaer\, 47623
ATTACH;FMTTYPE=image/jpeg:https://kevelaer-marketing.de/wp-content/uploads/2025/09/Klanginstrumente-e1758613822750.jpeg
ORGANIZER;CN="Daniel Wouters":MAILTO:daniel.wouters@web.de
END:VEVENT
BEGIN:VEVENT
DTSTART;TZID=Europe/Berlin:20251103T192000
DTEND;TZID=Europe/Berlin:20251103T203000
DTSTAMP:20260420T131540
CREATED:20250924T074304Z
LAST-MODIFIED:20250924T074304Z
UID:10003758-1762197600-1762201800@kevelaer-marketing.de
SUMMARY:Meditatives Klangkonzert
DESCRIPTION:Wohltuende Klänge können dabei helfen\, einen meditativen Zustand zu erreichen\, um Geist und Nervensystem zu beruhigen. Der Kevelaerer Musiker Daniel Wouters läd zu einem meditativen Klangkonzert im Meditationsraum im Klostergarten ein. Zum Einsatz kommen unter anderem Klangschalen\, Monochord\, Gong und Rahmentrommel. Gerade für Menschen ohne Meditationserfahrung oder Personen\, die sich mit stiller Meditation schwer tun\, eignen sich Klangmeditationen sehr gut. Nach einer kurzen Einleitung geht es während des Konzertes nur darum\, den improvisierten Klängen zu lauschen und die entspannende Wirkung auf Geist und Körper wahrzunehmen. Abschweifende Gedanken über Alltagssorgen\, Zukünftiges oder Vergangenes haben in dieser Zeit Pause. Im Fokus der Aufmerksamkeit stehen nur der Klang und die Resonanz im eigene Körper im Hier und Jetzt. Innere Bilder und Gefühle\, die in diesem Zustand auftauchen\, sind willkommen. Sie können betrachtet\, gefühlt und anschließend verabschiedet werden\, wenn der Klang als Anker immer wieder ins Zentrum der Wahrnehmung rückt. Das Konzert dauert etwa 45 Minuten. Es ist anschließend noch etwas Zeit\, langsam und in Ruhe wieder im Raum anzukommen. Matten\, Decken und Kissen für ein entspanntes Liegen oder Sitzen dürfen gerne mitgebracht werden. Ein frei wählbarer Kostenbeitrag von 10 bis 15 Euro pro Konzert kann nach dem Konzert in den Hut gelegt werden. \nAnmeldungen und Anfragen können per E-mail an daniel.wouters@web.de gesendet werden. \nEinlass: 19.20 Uhr
URL:https://kevelaer-marketing.de/event/meditatives-klangkonzert/2025-11-03/
LOCATION:Hotel Klostergarten\, Klostergarten 1\, Kevelaer\, 47623
ATTACH;FMTTYPE=image/jpeg:https://kevelaer-marketing.de/wp-content/uploads/2025/09/Klanginstrumente-e1758613822750.jpeg
ORGANIZER;CN="Daniel Wouters":MAILTO:daniel.wouters@web.de
END:VEVENT
BEGIN:VEVENT
DTSTART;TZID=Europe/Berlin:20250929T192000
DTEND;TZID=Europe/Berlin:20250929T203000
DTSTAMP:20260420T131540
CREATED:20250924T074304Z
LAST-MODIFIED:20250924T074304Z
UID:10003757-1759173600-1759177800@kevelaer-marketing.de
SUMMARY:Meditatives Klangkonzert
DESCRIPTION:Wohltuende Klänge können dabei helfen\, einen meditativen Zustand zu erreichen\, um Geist und Nervensystem zu beruhigen. Der Kevelaerer Musiker Daniel Wouters läd zu einem meditativen Klangkonzert im Meditationsraum im Klostergarten ein. Zum Einsatz kommen unter anderem Klangschalen\, Monochord\, Gong und Rahmentrommel. Gerade für Menschen ohne Meditationserfahrung oder Personen\, die sich mit stiller Meditation schwer tun\, eignen sich Klangmeditationen sehr gut. Nach einer kurzen Einleitung geht es während des Konzertes nur darum\, den improvisierten Klängen zu lauschen und die entspannende Wirkung auf Geist und Körper wahrzunehmen. Abschweifende Gedanken über Alltagssorgen\, Zukünftiges oder Vergangenes haben in dieser Zeit Pause. Im Fokus der Aufmerksamkeit stehen nur der Klang und die Resonanz im eigene Körper im Hier und Jetzt. Innere Bilder und Gefühle\, die in diesem Zustand auftauchen\, sind willkommen. Sie können betrachtet\, gefühlt und anschließend verabschiedet werden\, wenn der Klang als Anker immer wieder ins Zentrum der Wahrnehmung rückt. Das Konzert dauert etwa 45 Minuten. Es ist anschließend noch etwas Zeit\, langsam und in Ruhe wieder im Raum anzukommen. Matten\, Decken und Kissen für ein entspanntes Liegen oder Sitzen dürfen gerne mitgebracht werden. Ein frei wählbarer Kostenbeitrag von 10 bis 15 Euro pro Konzert kann nach dem Konzert in den Hut gelegt werden. \nAnmeldungen und Anfragen können per E-mail an daniel.wouters@web.de gesendet werden. \nEinlass: 19.20 Uhr
URL:https://kevelaer-marketing.de/event/meditatives-klangkonzert/2025-09-29/
LOCATION:Hotel Klostergarten\, Klostergarten 1\, Kevelaer\, 47623
ATTACH;FMTTYPE=image/jpeg:https://kevelaer-marketing.de/wp-content/uploads/2025/09/Klanginstrumente-e1758613822750.jpeg
ORGANIZER;CN="Daniel Wouters":MAILTO:daniel.wouters@web.de
END:VEVENT
BEGIN:VEVENT
DTSTART;VALUE=DATE:20250819
DTEND;VALUE=DATE:20250823
DTSTAMP:20260420T131540
CREATED:20250604T064811Z
LAST-MODIFIED:20250605T101420Z
UID:10003604-1755561600-1755907199@kevelaer-marketing.de
SUMMARY:Gesundheitsangebot: Atempause und kleine Auszeit
DESCRIPTION:Manchmal ist das Wochenende zu kurz für echte Erholung. Dabei ist eine Auszeit wichtig für Körper und Seele – nur wer erholt ist\, bleibt leistungsfähig. In Kevelaer und dem Hotel Klostergarten lässt sich Gesundheit\, Freizeit und Wohlbefinden ideal verbinden. Ob neue Sportarten ausprobieren oder einfach die Seele baumeln lassen – hier steht Ihr Wohl im Mittelpunkt. Die Wallfahrtsstadt am Niederrhein kombiniert moderne Gesundheitsangebote mit Spiritualität und Heilquellen. Das Hotel Klostergarten bietet den perfekten Rahmen für Ihren Kurzurlaub – mit Wohlfühlzimmern und herzlicher Gastfreundschaft. \nProgramm: \nTag 1: \n\nBis 15 Uhr: Anreise und Bezug des Hotelzimmers (Relax Körbchen und eine Flasche Mineralwasser inklusive)\nDanach: ca. 20 min Fußweg (ggf. mit Nordic Walking-Stöcken) zum Solegarten St. Jakob\n16 Uhr: Besuch des Inhalatoriums; Teilnahme an den Kursen der Atempause (eigene Auswahl\, Anmeldung hier möglich); Getränke stehen im Solegarten nach den Kursen zur Verfügung\nAbendessen freibleibend\n21 Uhr: Gemütliches Ausklingen des Abends in der Hotelbar/Lounge inklusive Getränkegutschein über 10%\n\nTag 2: \n\n8 Uhr: Sekt-Frühstück im Hotel und Empfang des Picknick-Rucksacks mit kleinen gesunden Snacks\nAnschließend: Teilnahme an den Kursen der Atempause\nDanach: Erholungsphase im Hotel\nMittags: Gemütlicher Stadtbummel mit freibleibendem Mittagessen oder Wanderung (ggf. mit Nordic Walking-Stöcken) auf den Vitalwanderwegen\n16 Uhr: Kneipp-Anwendungen auf eigene Faust und/oder Besuch des Inhalatoriums; Teilnahme an den Kursen der Atempause\nAbendessen freibleibend\n21 Uhr: Gemütliches Ausklingen des Abends in der Hotelbar/Lounge inklusive Getränkegutschein über 10%\n\nTag 3: \n\n8 Uhr: Frühstück im Hotel\n9 Uhr: Kneipp-Anwendungen auf eigene Faust und/oder Besuch des Inhalatoriums oder Nutzung der Boulebahnen im Solegarten (kostenfreies Ausleihen eines Boule Sets möglich); Teilnahme an Kursen der Atempause\nDanach: Erholungsphase im Hotel\n16 Uhr: Besuch der gemütlichen Innenstadt\, insbesondere des Kapellenplatzes\, mit einem Moment der Ruhe und Entzünden einer ganz persönlichen Kerze mit dem inneren Wunsch nach Gesundheit\, Glück und Zufriedenheit; Teilnahme an den Kursen der Atempause\nAbendessen freibleibend\n21 Uhr: Gemütliches Ausklingen des Abends in der Hotelbar/Lounge inklusive Getränkegutschein über 10%\n\nTag 4: \n\n8 Uhr: Frühstück im Hotel\nBis 11 Uhr: Check Out im Hotel\nDanach: Letzter Besuch im Solegarten St. Jakob mit Teilnahme an Kursen der Atempause\nHeimreise\n\nVerlängerungstage nach Verfügbarkeit möglich. Massagen oder Physiotherapie im Hotel auch nach Absprache zu buchbar. \nPreis: 199 Euro pro Person im Doppel-/Zweibettzimmer (Einzelzimmerzuschlag 97 Euro) \nHier geht’s zur Buchung.
URL:https://kevelaer-marketing.de/event/atempause-und-kleine-auszeit-2/
LOCATION:Hotel Klostergarten\, Klostergarten 1\, Kevelaer\, 47623
ATTACH;FMTTYPE=image/jpeg:https://kevelaer-marketing.de/wp-content/uploads/2025/06/Atempause-Eroeffnung-07-2023-2-scaled-e1749118269774.jpg
ORGANIZER;CN="Wallfahrtsstadt Kevelaer":MAILTO:kultur@kevelaer.de
END:VEVENT
BEGIN:VEVENT
DTSTART;VALUE=DATE:20250812
DTEND;VALUE=DATE:20250816
DTSTAMP:20260420T131540
CREATED:20250604T064831Z
LAST-MODIFIED:20250605T101122Z
UID:10003603-1754956800-1755302399@kevelaer-marketing.de
SUMMARY:Gesundheitsangebot: Atempause und kleine Auszeit
DESCRIPTION:Manchmal ist das Wochenende zu kurz für echte Erholung. Dabei ist eine Auszeit wichtig für Körper und Seele – nur wer erholt ist\, bleibt leistungsfähig. In Kevelaer und dem Hotel Klostergarten lässt sich Gesundheit\, Freizeit und Wohlbefinden ideal verbinden. Ob neue Sportarten ausprobieren oder einfach die Seele baumeln lassen – hier steht Ihr Wohl im Mittelpunkt. Die Wallfahrtsstadt am Niederrhein kombiniert moderne Gesundheitsangebote mit Spiritualität und Heilquellen. Das Hotel Klostergarten bietet den perfekten Rahmen für Ihren Kurzurlaub – mit Wohlfühlzimmern und herzlicher Gastfreundschaft. \nProgramm: \nTag 1: \n\nBis 15 Uhr: Anreise und Bezug des Hotelzimmers (Relax Körbchen und eine Flasche Mineralwasser inklusive)\nDanach: ca. 20 min Fußweg (ggf. mit Nordic Walking-Stöcken) zum Solegarten St. Jakob\n16 Uhr: Besuch des Inhalatoriums; Teilnahme an den Kursen der Atempause (eigene Auswahl\, Anmeldung hier möglich); Getränke stehen im Solegarten nach den Kursen zur Verfügung\nAbendessen freibleibend\n21 Uhr: Gemütliches Ausklingen des Abends in der Hotelbar/Lounge inklusive Getränkegutschein über 10%\n\nTag 2: \n\n8 Uhr: Sekt-Frühstück im Hotel und Empfang des Picknick-Rucksacks mit kleinen gesunden Snacks\nAnschließend: Teilnahme an den Kursen der Atempause\nDanach: Erholungsphase im Hotel\nMittags: Gemütlicher Stadtbummel mit freibleibendem Mittagessen oder Wanderung (ggf. mit Nordic Walking-Stöcken) auf den Vitalwanderwegen\n16 Uhr: Kneipp-Anwendungen auf eigene Faust und/oder Besuch des Inhalatoriums; Teilnahme an den Kursen der Atempause\nAbendessen freibleibend\n21 Uhr: Gemütliches Ausklingen des Abends in der Hotelbar/Lounge inklusive Getränkegutschein über 10%\n\nTag 3: \n\n8 Uhr: Frühstück im Hotel\n9 Uhr: Kneipp-Anwendungen auf eigene Faust und/oder Besuch des Inhalatoriums oder Nutzung der Boulebahnen im Solegarten (kostenfreies Ausleihen eines Boule Sets möglich); Teilnahme an Kursen der Atempause\nDanach: Erholungsphase im Hotel\n16 Uhr: Besuch der gemütlichen Innenstadt\, insbesondere des Kapellenplatzes\, mit einem Moment der Ruhe und Entzünden einer ganz persönlichen Kerze mit dem inneren Wunsch nach Gesundheit\, Glück und Zufriedenheit; Teilnahme an den Kursen der Atempause\nAbendessen freibleibend\n21 Uhr: Gemütliches Ausklingen des Abends in der Hotelbar/Lounge inklusive Getränkegutschein über 10%\n\nTag 4: \n\n8 Uhr: Frühstück im Hotel\nBis 11 Uhr: Check Out im Hotel\nDanach: Letzter Besuch im Solegarten St. Jakob mit Teilnahme an Kursen der Atempause\nHeimreise\n\nVerlängerungstage nach Verfügbarkeit möglich. Massagen oder Physiotherapie im Hotel auch nach Absprache zu buchbar. \nPreis: 199 Euro pro Person im Doppel-/Zweibettzimmer (Einzelzimmerzuschlag 97 Euro) \nHier geht’s zur Buchung.
URL:https://kevelaer-marketing.de/event/atempause-und-kleine-auszeit-3/
LOCATION:Hotel Klostergarten\, Klostergarten 1\, Kevelaer\, 47623
ATTACH;FMTTYPE=image/jpeg:https://kevelaer-marketing.de/wp-content/uploads/2025/06/Atempause-Eroeffnung-07-2023-2-scaled-e1749118269774.jpg
ORGANIZER;CN="Wallfahrtsstadt Kevelaer":MAILTO:kultur@kevelaer.de
END:VEVENT
BEGIN:VEVENT
DTSTART;VALUE=DATE:20250805
DTEND;VALUE=DATE:20250809
DTSTAMP:20260420T131540
CREATED:20250604T064747Z
LAST-MODIFIED:20250605T102757Z
UID:10003602-1754352000-1754697599@kevelaer-marketing.de
SUMMARY:Gesundheitsangebot: Atempause und kleine Auszeit
DESCRIPTION:Manchmal ist das Wochenende zu kurz für echte Erholung. Dabei ist eine Auszeit wichtig für Körper und Seele – nur wer erholt ist\, bleibt leistungsfähig. In Kevelaer und dem Hotel Klostergarten lässt sich Gesundheit\, Freizeit und Wohlbefinden ideal verbinden. Ob neue Sportarten ausprobieren oder einfach die Seele baumeln lassen – hier steht Ihr Wohl im Mittelpunkt. Die Wallfahrtsstadt am Niederrhein kombiniert moderne Gesundheitsangebote mit Spiritualität und Heilquellen. Das Hotel Klostergarten bietet den perfekten Rahmen für Ihren Kurzurlaub – mit Wohlfühlzimmern und herzlicher Gastfreundschaft. \nProgramm: \nTag 1: \n\nBis 15 Uhr: Anreise und Bezug des Hotelzimmers (Relax Körbchen und eine Flasche Mineralwasser inklusive)\nDanach: ca. 20 min Fußweg (ggf. mit Nordic Walking-Stöcken) zum Solegarten St. Jakob\n16 Uhr: Besuch des Inhalatoriums; Teilnahme an den Kursen der Atempause (eigene Auswahl\, Anmeldung hier möglich); Getränke stehen im Solegarten nach den Kursen zur Verfügung\nAbendessen freibleibend\n21 Uhr: Gemütliches Ausklingen des Abends in der Hotelbar/Lounge inklusive Getränkegutschein über 10%\n\nTag 2: \n\n8 Uhr: Sekt-Frühstück im Hotel und Empfang des Picknick-Rucksacks mit kleinen gesunden Snacks\nAnschließend: Teilnahme an den Kursen der Atempause\nDanach: Erholungsphase im Hotel\nMittags: Gemütlicher Stadtbummel mit freibleibendem Mittagessen oder Wanderung (ggf. mit Nordic Walking-Stöcken) auf den Vitalwanderwegen\n16 Uhr: Kneipp-Anwendungen auf eigene Faust und/oder Besuch des Inhalatoriums; Teilnahme an den Kursen der Atempause\nAbendessen freibleibend\n21 Uhr: Gemütliches Ausklingen des Abends in der Hotelbar/Lounge inklusive Getränkegutschein über 10%\n\nTag 3: \n\n8 Uhr: Frühstück im Hotel\n9 Uhr: Kneipp-Anwendungen auf eigene Faust und/oder Besuch des Inhalatoriums oder Nutzung der Boulebahnen im Solegarten (kostenfreies Ausleihen eines Boule Sets möglich); Teilnahme an Kursen der Atempause\nDanach: Erholungsphase im Hotel\n16 Uhr: Besuch der gemütlichen Innenstadt\, insbesondere des Kapellenplatzes\, mit einem Moment der Ruhe und Entzünden einer ganz persönlichen Kerze mit dem inneren Wunsch nach Gesundheit\, Glück und Zufriedenheit; Teilnahme an den Kursen der Atempause\nAbendessen freibleibend\n21 Uhr: Gemütliches Ausklingen des Abends in der Hotelbar/Lounge inklusive Getränkegutschein über 10%\n\nTag 4: \n\n8 Uhr: Frühstück im Hotel\nBis 11 Uhr: Check Out im Hotel\nDanach: Letzter Besuch im Solegarten St. Jakob mit Teilnahme an Kursen der Atempause\nHeimreise\n\nVerlängerungstage nach Verfügbarkeit möglich. Massagen oder Physiotherapie im Hotel auch nach Absprache zu buchbar. \nPreis: 199 Euro pro Person im Doppel-/Zweibettzimmer (Einzelzimmerzuschlag 97 Euro) \nHier geht’s zur Buchung.
URL:https://kevelaer-marketing.de/event/atempause-und-kleine-auszeit/
LOCATION:Hotel Klostergarten\, Klostergarten 1\, Kevelaer\, 47623
ATTACH;FMTTYPE=image/jpeg:https://kevelaer-marketing.de/wp-content/uploads/2025/06/Atempause-Eroeffnung-07-2023-2-scaled-e1749118269774.jpg
ORGANIZER;CN="Wallfahrtsstadt Kevelaer":MAILTO:kultur@kevelaer.de
END:VEVENT
END:VCALENDAR