BEGIN:VCALENDAR
VERSION:2.0
PRODID:-//Kevelaer Marketing - ECPv6.10.2//NONSGML v1.0//EN
CALSCALE:GREGORIAN
METHOD:PUBLISH
X-WR-CALNAME:Kevelaer Marketing
X-ORIGINAL-URL:https://kevelaer-marketing.de
X-WR-CALDESC:Veranstaltungen für Kevelaer Marketing
REFRESH-INTERVAL;VALUE=DURATION:PT1H
X-Robots-Tag:noindex
X-PUBLISHED-TTL:PT1H
BEGIN:VTIMEZONE
TZID:Europe/Berlin
BEGIN:DAYLIGHT
TZOFFSETFROM:+0100
TZOFFSETTO:+0200
TZNAME:CEST
DTSTART:20230326T010000
END:DAYLIGHT
BEGIN:STANDARD
TZOFFSETFROM:+0200
TZOFFSETTO:+0100
TZNAME:CET
DTSTART:20231029T010000
END:STANDARD
END:VTIMEZONE
BEGIN:VEVENT
DTSTART;TZID=Europe/Berlin:20230909T140000
DTEND;TZID=Europe/Berlin:20230909T140000
DTSTAMP:20260424T153500
CREATED:20230201T094221Z
LAST-MODIFIED:20230511T131320Z
UID:10000091-1694268000-1694268000@kevelaer-marketing.de
SUMMARY:Die Wallfahrtsstadt stellt sich vor - klassischer Stadtrundgang
DESCRIPTION:In einem Stadtrundgang alles erfahren – von der Wallfahrtsgeschichte über Sehenswürdigkeiten sowie Kunst\, Kultur\, Historisches und Gesundheit. \nDas Gästeführer-Team des Kevelaer Marketing freut sich auf Sie! Einfach online oder in der Tourist Information Tickets sichern oder spontan zum Treffpunkt kommen. \nPreise: \nErwachsene pro Person: 6\,00 Euro\nKinder bis 5 Jahre: frei\nFamilienpreis (Kinder bis 16 Jahre): 15\,00 Euro\nTeilnehmer: max. 25 Personen
URL:https://kevelaer-marketing.de/event/die-wallfahrtsstadt-stellt-sich-vor-klassischer-stadtrundgang-2/
LOCATION:Rathaus\, Peter-Plümpe-Platz 12\, Kevelaer\, 47623
ATTACH;FMTTYPE=image/jpeg:https://kevelaer-marketing.de/wp-content/uploads/2023/01/Foto-Termin-27.05.2023_Die-Wallfahrtsstadt-Kapellenplatz-Bluete-09-2009-Original-G.-Seybert-Kopie-scaled-e1675154379996.jpg
ORGANIZER;CN="Wallfahrtsstadt Kevelaer":MAILTO:kultur@kevelaer.de
END:VEVENT
BEGIN:VEVENT
DTSTART;TZID=Europe/Berlin:20230729T140000
DTEND;TZID=Europe/Berlin:20230729T140000
DTSTAMP:20260424T153500
CREATED:20230201T094125Z
LAST-MODIFIED:20230511T131009Z
UID:10000045-1690639200-1690639200@kevelaer-marketing.de
SUMMARY:Von Brunnen zu Brunnen - Familienführung zu plätschernden Kunstwerken
DESCRIPTION:Wo Brunnen sind\, ist Leben\, es freuen sich Jung & Alt! In einem Rundgang mehr erfahren zu Kevelaers liebevoll und künstlerisch gestalteten Wasserspendern. \nDas Gästeführer-Team des Kevelaer Marketing freut sich auf Sie! Einfach online oder in der Tourist Information Tickets sichern oder spontan zum Treffpunkt kommen. \nPreise: \nErwachsene pro Person: 6\,00 Euro\nKinder bis 5 Jahre: frei\nFamilienpreis (Kinder bis 16 Jahre): 15\,00 Euro\nTeilnehmer: max. 25 Personen
URL:https://kevelaer-marketing.de/event/von-brunnen-zu-brunnen-familienfuehrung-zu-plaetschernden-kunstwerken/
LOCATION:Rathaus\, Peter-Plümpe-Platz 12\, Kevelaer\, 47623
ATTACH;FMTTYPE=image/jpeg:https://kevelaer-marketing.de/wp-content/uploads/2023/01/Foto-Termin-29.07.2023-Brunnen-BRFeenyStadtfuehrung_DSC1743-scaled-e1675155519122.jpg
ORGANIZER;CN="Wallfahrtsstadt Kevelaer":MAILTO:kultur@kevelaer.de
END:VEVENT
BEGIN:VEVENT
DTSTART;TZID=Europe/Berlin:20230708T140000
DTEND;TZID=Europe/Berlin:20230708T140000
DTSTAMP:20260424T153500
CREATED:20230201T094058Z
LAST-MODIFIED:20230511T130914Z
UID:10000044-1688824800-1688824800@kevelaer-marketing.de
SUMMARY:Geschichte und Geschichtchen von und über Kevelaer - Besonderer Rundgang mit historischen und netten Anekdoten
DESCRIPTION:In der Führung Besonderes und Besonderheiten aus und über Kevelaer erfahren\, von Alltagsgeschichten und nicht ganz alltäglichen Geschichten. \nDas Gästeführer-Team des Kevelaer Marketing freut sich auf Sie! Einfach online oder in der Tourist Information Tickets sichern oder spontan zum Treffpunkt kommen. \nPreise: \nErwachsene pro Person: 6\,00 Euro\nKinder bis 5 Jahre: frei\nFamilienpreis (Kinder bis 16 Jahre): 15\,00 Euro\nTeilnehmer: max. 25 Personen
URL:https://kevelaer-marketing.de/event/geschichte-und-geschichtchen-von-und-ueber-kevelaer-besonderer-rundgang-mit-historischen-und-netten-anekdoten/
LOCATION:Rathaus\, Peter-Plümpe-Platz 12\, Kevelaer\, 47623
ATTACH;FMTTYPE=image/jpeg:https://kevelaer-marketing.de/wp-content/uploads/2023/01/Foto-Termin-08.07.2023-Stadtfuehrung-2022-10-Seybert-1-scaled-e1675155260640.jpg
ORGANIZER;CN="Wallfahrtsstadt Kevelaer":MAILTO:kultur@kevelaer.de
END:VEVENT
BEGIN:VEVENT
DTSTART;TZID=Europe/Berlin:20230610T140000
DTEND;TZID=Europe/Berlin:20230610T140000
DTSTAMP:20260424T153500
CREATED:20230201T093957Z
LAST-MODIFIED:20230511T130645Z
UID:10000058-1686405600-1686405600@kevelaer-marketing.de
SUMMARY:Auf den Spuren von Bert Gerresheim - Interessantes zu seinen Kunstwerken
DESCRIPTION:Ein Rundgang zu den Werken von Bert Gerresheim. Mehr erfahren\, wie der Künstler auf einzigartige Weise die kirchliche und politische Geschichte Kevelaers und der Welt verarbeitet. \nDas Gästeführer-Team des Kevelaer Marketing freut sich auf Sie! Einfach online oder in der Tourist Information Tickets sichern oder spontan zum Treffpunkt kommen. \nPreise: \nErwachsene pro Person: 6\,00 Euro\nKinder bis 5 Jahre: frei\nFamilienpreis (Kinder bis 16 Jahre): 15\,00 Euro\nTeilnehmer: max. 25 Personen
URL:https://kevelaer-marketing.de/event/auf-den-spuren-von-bert-gerresheim-interessantes-zu-seinen-kunstwerken/
LOCATION:Rathaus\, Peter-Plümpe-Platz 12\, Kevelaer\, 47623
ATTACH;FMTTYPE=image/jpeg:https://kevelaer-marketing.de/wp-content/uploads/2023/01/Foto-Termin-10.06.2023_Gerresheim-10-2022-G.-Seybert-Original-8-scaled-e1675154579300.jpg
ORGANIZER;CN="Wallfahrtsstadt Kevelaer":MAILTO:kultur@kevelaer.de
END:VEVENT
BEGIN:VEVENT
DTSTART;TZID=Europe/Berlin:20230527T140000
DTEND;TZID=Europe/Berlin:20230527T140000
DTSTAMP:20260424T153500
CREATED:20230201T093930Z
LAST-MODIFIED:20230511T125326Z
UID:10000060-1685196000-1685196000@kevelaer-marketing.de
SUMMARY:Die Wallfahrtsstadt stellt sich vor - klassischer Stadtrundgang
DESCRIPTION:In einem Stadtrundgang alles erfahren – von der Wallfahrtsgeschichte über die Sehenswürdigkeiten sowie Kunst\, Kultur\, Historisches und Gesundheit. \nDas Gästeführer-Team des Kevelaer Marketing freut sich auf Sie! Einfach online oder in der Tourist Information Tickets sichern oder spontan zum Treffpunkt kommen. \nPreise: \nErwachsene pro Person: 6\,00 Euro\nKinder bis 5 Jahre: frei\nFamilienpreis (Kinder bis 16 Jahre): 15\,00 Euro\nTeilnehme: max. 25 Personen
URL:https://kevelaer-marketing.de/event/die-wallfahrtsstadt-stellt-sich-vor-klassischer-stadtrundgang/
LOCATION:Rathaus\, Peter-Plümpe-Platz 12\, Kevelaer\, 47623
ATTACH;FMTTYPE=image/jpeg:https://kevelaer-marketing.de/wp-content/uploads/2023/01/Foto-Termin-27.05.2023_Die-Wallfahrtsstadt-Kapellenplatz-Bluete-09-2009-Original-G.-Seybert-Kopie-scaled-e1675154379996.jpg
END:VEVENT
END:VCALENDAR